Workbook

Sheet Instructions
B8: Base Bid (BT-36KM)
B10: Please fill out the include Bid Table as part of your submission. The fields here will correspond to the fields within Appendix B and figures must match information provided in the same section.
B12: Instructions
B14: - When pasting content, please use Paste Special as Text without any formatting. - You can only submit text based responses, please do not use special characters like emojis. - Please do not change the structure of any of the worksheets. Changing the structure will invalidate your submission. - Any additional information outside of the given structure of the worksheets will not be visible to the purchaser. - Please do not save this file in a different format. Saving this file in a different format will invalidate your submission. - Please follow the instructions provided along with this file to submit it back to Euna Procurement. - By default, every item has `No Bid` selected for the `Bid/No Bid Decision` column. - If you decide to bid on an item, then you must select `Bid` in the `Bid/No Bid Decision` column and all of the other editable cells for the item must contain a valid value. - If you decide not to bid on an item, then you must select `No Bid` in the `Bid/No Bid Decision` column and all of the other editable cells for the item must be blank. - To submit additional bids for an item, you must go to the Additional Responses tab. - If you decide to submit an additional response for an item, then you must also complete a primary response bid for that item. - Every item has a unique item number found in column D. To submit an additional bid for an item, enter the item number from the Primary Responses sheet into the blank item number cell on the Additional Responses sheet (column D). - Entering the item number on the Additional responses sheet will cause the line to populate with item-specific info. An additional response can now be completed by filling in the blank cells with the bid information you wish to submit. - You can submit as many additional bids for each item as you would like - Please do not use Excel formulas in your responses. - If you have any questions regarding the content of this file, please contact the appropriate purchaser. - If you have any technical problems, please contact Euna Procurement at support.procurement@eunasolutions.com.
ZZ702: 2bd753df3f273fe9ea16f9f665db749d4680c3f9501150e27230734fea8a7fda3ac1e378eef27c5917f3fd1dcdbea3fec9dd19b7bbcb3c65edd1e989b77cc90c4YSfJklE8cBL7G1TZ4KUfKt+X07gBYAJIQPiqMjfi2y0U1TdrkhAR2HBiqTH0+tB

Sheet Primary Responses
B2: Primary Responses
B3: =IF((COUNTIF(B7:B10, "Error*") + COUNTIF(H3:H3, "Error*")) > 0, "Error: Check cell(s)" &IF(COUNTIF(B7:B10, "Error*") > 0, (" " & ADDRESS(7 + MATCH("Error*", B7:B10, 0) - 1, COLUMN(), 4)), "") & IF(COUNTIF(H3:H3, "Error*") > 0, (" " & ADDRESS(ROW(), 8 + MATCH("Error*", H3:H3, 0) - 1, 4)), ""), "Success: All data is valid!") -> 0 | H3: =IFERROR("Error: Cell " & ADDRESS((7 + MATCH(FALSE, INDEX(NOT(NOT(ISNUMBER(H7:H10)) * NOT(ISBLANK(H7:H10))), 0), 0) - 1), COLUMN(), 4) & " must be Numeric", "") -> 0
H4: Numeric
B5: Status | D5: Bid/No Bid Decision | E5: # | F5: Description | G5: Quantity Required | H5: Unit Price | I5: Total Cost
B6: Helper:ResponseStatus | C6: BidTableItem:BidTableItemID | D6: BidTableItemResponse:IsBidding | E6: Helper:BidTableBasketOrderWithItemOrder | F6: BidTableItem:ItemName | G6: BidTableItem:412310 | H6: BidTableItemResponse:355378 | I6: BidTableFormula:177657
B7: MAIN BID
B8: =IF(D8 = "No Bid", IFERROR("Error: Clear values for '" & INDIRECT(ADDRESS(5, (8 + IF(NOT(ISBLANK(H8)), 1, NA()) - 1))) & "' in cell " & ADDRESS(ROW(), (8 + IF(NOT(ISBLANK(H8)), 1, NA()) - 1), 4) & " or select 'Bid'", "Not Bidding"), IF(D8 = "Bid", IFERROR("Error: Missing value for '" & INDIRECT(ADDRESS(5, (8 + IF(ISBLANK(H8), 1, NA()) - 1))) & "' in cell " & ADDRESS(ROW(), (8 + IF(ISBLANK(H8), 1, NA()) - 1), 4), "Success: All values provided"), "Error: Invalid Bid/No Bid Decision")) -> 0 | C8: 4012602 | D8: No Bid | E8: #1-1 | F8: Total Base Bid | G8: 1 | I8: =IFERROR(IF(ISBLANK(INDIRECT("G8")), NA(), INDIRECT("G8")) * IF(ISBLANK(INDIRECT("H8")), NA(), INDIRECT("H8")), "-") -> 0
B9: Basket Total | I9: =SUM(I8:I8) -> 0
B11: Grand Total | I11: =SUM(I8:I8) -> 0

Sheet Additional Responses
B2: Additional Responses
B3: =IF((COUNTIF(B7:B106, "Error*") + COUNTIF(H3:H3, "Error*")) > 0, "Error: Check cell(s)" &IF(COUNTIF(B7:B106, "Error*") > 0, (" " & ADDRESS(7 + MATCH("Error*", B7:B106, 0) - 1, COLUMN(), 4)), "") & IF(COUNTIF(H3:H3, "Error*") > 0, (" " & ADDRESS(ROW(), 8 + MATCH("Error*", H3:H3, 0) - 1, 4)), ""), "Success: All data is valid!") -> 0 | H3: =IFERROR("Error: Cell " & ADDRESS((7 + MATCH(FALSE, INDEX(NOT(NOT(ISNUMBER(H7:H106)) * NOT(ISBLANK(H7:H106))), 0), 0) - 1), COLUMN(), 4) & " must be Numeric", "") -> 0
H4: Numeric
B5: Status | D5: Bid/No Bid Decision | E5: # | F5: Description | G5: Quantity Required | H5: Unit Price | I5: Total Cost
B6: Helper:ResponseStatus | C6: BidTableItem:BidTableItemID | D6: BidTableItemResponse:IsBidding | E6: Helper:BidTableBasketOrderWithItemOrder | F6: BidTableItem:ItemName | G6: BidTableItem:412310 | H6: BidTableItemResponse:355378 | I6: BidTableFormula:177657
B7: =IF(ISBLANK(INDIRECT("E7")), IF(NOT(AND(ISBLANK(INDIRECT("$H7")))), "Error: Please provide a value in the '#' column", "-"), IFERROR("Error: Missing value for '" & INDIRECT(ADDRESS(5, (8 + IF(ISBLANK(H7), 1, NA()) - 1))) & "' in cell " & ADDRESS(ROW(), (8 + IF(ISBLANK(H7), 1, NA()) - 1), 4), "Success: All values provided")) -> 0 | C7: N/A | D7: N/A | F7: =IF(E7 ="", "", VLOOKUP(E7, 'Primary Responses'!$E$7:G$10, 2, FALSE)) -> 0 | G7: =IF(E7 ="", "", VLOOKUP(E7, 'Primary Responses'!$E$7:G$10, 3, FALSE)) -> 0 | I7: =IFERROR(IF(ISBLANK(INDIRECT("G7")), NA(), INDIRECT("G7")) * IF(ISBLANK(INDIRECT("H7")), NA(), INDIRECT("H7")), "-") -> 0
B8: =IF(ISBLANK(INDIRECT("E8")), IF(NOT(AND(ISBLANK(INDIRECT("$H8")))), "Error: Please provide a value in the '#' column", "-"), IFERROR("Error: Missing value for '" & INDIRECT(ADDRESS(5, (8 + IF(ISBLANK(H8), 1, NA()) - 1))) & "' in cell " & ADDRESS(ROW(), (8 + IF(ISBLANK(H8), 1, NA()) - 1), 4), "Success: All values provided")) -> 0 | C8: N/A | D8: N/A | F8: =IF(E8 ="", "", VLOOKUP(E8, 'Primary Responses'!$E$7:G$10, 2, FALSE)) -> 0 | G8: =IF(E8 ="", "", VLOOKUP(E8, 'Primary Responses'!$E$7:G$10, 3, FALSE)) -> 0 | I8: =IFERROR(IF(ISBLANK(INDIRECT("G8")), NA(), INDIRECT("G8")) * IF(ISBLANK(INDIRECT("H8")), NA(), INDIRECT("H8")), "-") -> 0
B9: =IF(ISBLANK(INDIRECT("E9")), IF(NOT(AND(ISBLANK(INDIRECT("$H9")))), "Error: Please provide a value in the '#' column", "-"), IFERROR("Error: Missing value for '" & INDIRECT(ADDRESS(5, (8 + IF(ISBLANK(H9), 1, NA()) - 1))) & "' in cell " & ADDRESS(ROW(), (8 + IF(ISBLANK(H9), 1, NA()) - 1), 4), "Success: All values provided")) -> 0 | C9: N/A | D9: N/A | F9: =IF(E9 ="", "", VLOOKUP(E9, 'Primary Responses'!$E$7:G$10, 2, FALSE)) -> 0 | G9: =IF(E9 ="", "", VLOOKUP(E9, 'Primary Responses'!$E$7:G$10, 3, FALSE)) -> 0 | I9: =IFERROR(IF(ISBLANK(INDIRECT("G9")), NA(), INDIRECT("G9")) * IF(ISBLANK(INDIRECT("H9")), NA(), INDIRECT("H9")), "-") -> 0
B10: =IF(ISBLANK(INDIRECT("E10")), IF(NOT(AND(ISBLANK(INDIRECT("$H10")))), "Error: Please provide a value in the '#' column", "-"), IFERROR("Error: Missing value for '" & INDIRECT(ADDRESS(5, (8 + IF(ISBLANK(H10), 1, NA()) - 1))) & "' in cell " & ADDRESS(ROW(), (8 + IF(ISBLANK(H10), 1, NA()) - 1), 4), "Success: All values provided")) -> 0 | C10: N/A | D10: N/A | F10: =IF(E10 ="", "", VLOOKUP(E10, 'Primary Responses'!$E$7:G$10, 2, FALSE)) -> 0 | G10: =IF(E10 ="", "", VLOOKUP(E10, 'Primary Responses'!$E$7:G$10, 3, FALSE)) -> 0 | I10: =IFERROR(IF(ISBLANK(INDIRECT("G10")), NA(), INDIRECT("G10")) * IF(ISBLANK(INDIRECT("H10")), NA(), INDIRECT("H10")), "-") -> 0
B11: =IF(ISBLANK(INDIRECT("E11")), IF(NOT(AND(ISBLANK(INDIRECT("$H11")))), "Error: Please provide a value in the '#' column", "-"), IFERROR("Error: Missing value for '" & INDIRECT(ADDRESS(5, (8 + IF(ISBLANK(H11), 1, NA()) - 1))) & "' in cell " & ADDRESS(ROW(), (8 + IF(ISBLANK(H11), 1, NA()) - 1), 4), "Success: All values provided")) -> 0 | C11: N/A | D11: N/A | F11: =IF(E11 ="", "", VLOOKUP(E11, 'Primary Responses'!$E$7:G$10, 2, FALSE)) -> 0 | G11: =IF(E11 ="", "", VLOOKUP(E11, 'Primary Responses'!$E$7:G$10, 3, FALSE)) -> 0 | I11: =IFERROR(IF(ISBLANK(INDIRECT("G11")), NA(), INDIRECT("G11")) * IF(ISBLANK(INDIRECT("H11")), NA(), INDIRECT("H11")), "-") -> 0
B12: =IF(ISBLANK(INDIRECT("E12")), IF(NOT(AND(ISBLANK(INDIRECT("$H12")))), "Error: Please provide a value in the '#' column", "-"), IFERROR("Error: Missing value for '" & INDIRECT(ADDRESS(5, (8 + IF(ISBLANK(H12), 1, NA()) - 1))) & "' in cell " & ADDRESS(ROW(), (8 + IF(ISBLANK(H12), 1, NA()) - 1), 4), "Success: All values provided")) -> 0 | C12: N/A | D12: N/A | F12: =IF(E12 ="", "", VLOOKUP(E12, 'Primary Responses'!$E$7:G$10, 2, FALSE)) -> 0 | G12: =IF(E12 ="", "", VLOOKUP(E12, 'Primary Responses'!$E$7:G$10, 3, FALSE)) -> 0 | I12: =IFERROR(IF(ISBLANK(INDIRECT("G12")), NA(), INDIRECT("G12")) * IF(ISBLANK(INDIRECT("H12")), NA(), INDIRECT("H12")), "-") -> 0
B13: =IF(ISBLANK(INDIRECT("E13")), IF(NOT(AND(ISBLANK(INDIRECT("$H13")))), "Error: Please provide a value in the '#' column", "-"), IFERROR("Error: Missing value for '" & INDIRECT(ADDRESS(5, (8 + IF(ISBLANK(H13), 1, NA()) - 1))) & "' in cell " & ADDRESS(ROW(), (8 + IF(ISBLANK(H13), 1, NA()) - 1), 4), "Success: All values provided")) -> 0 | C13: N/A | D13: N/A | F13: =IF(E13 ="", "", VLOOKUP(E13, 'Primary Responses'!$E$7:G$10, 2, FALSE)) -> 0 | G13: =IF(E13 ="", "", VLOOKUP(E13, 'Primary Responses'!$E$7:G$10, 3, FALSE)) -> 0 | I13: =IFERROR(IF(ISBLANK(INDIRECT("G13")), NA(), INDIRECT("G13")) * IF(ISBLANK(INDIRECT("H13")), NA(), INDIRECT("H13")), "-") -> 0
B14: =IF(ISBLANK(INDIRECT("E14")), IF(NOT(AND(ISBLANK(INDIRECT("$H14")))), "Error: Please provide a value in the '#' column", "-"), IFERROR("Error: Missing value for '" & INDIRECT(ADDRESS(5, (8 + IF(ISBLANK(H14), 1, NA()) - 1))) & "' in cell " & ADDRESS(ROW(), (8 + IF(ISBLANK(H14), 1, NA()) - 1), 4), "Success: All values provided")) -> 0 | C14: N/A | D14: N/A | F14: =IF(E14 ="", "", VLOOKUP(E14, 'Primary Responses'!$E$7:G$10, 2, FALSE)) -> 0 | G14: =IF(E14 ="", "", VLOOKUP(E14, 'Primary Responses'!$E$7:G$10, 3, FALSE)) -> 0 | I14: =IFERROR(IF(ISBLANK(INDIRECT("G14")), NA(), INDIRECT("G14")) * IF(ISBLANK(INDIRECT("H14")), NA(), INDIRECT("H14")), "-") -> 0
B15: =IF(ISBLANK(INDIRECT("E15")), IF(NOT(AND(ISBLANK(INDIRECT("$H15")))), "Error: Please provide a value in the '#' column", "-"), IFERROR("Error: Missing value for '" & INDIRECT(ADDRESS(5, (8 + IF(ISBLANK(H15), 1, NA()) - 1))) & "' in cell " & ADDRESS(ROW(), (8 + IF(ISBLANK(H15), 1, NA()) - 1), 4), "Success: All values provided")) -> 0 | C15: N/A | D15: N/A | F15: =IF(E15 ="", "", VLOOKUP(E15, 'Primary Responses'!$E$7:G$10, 2, FALSE)) -> 0 | G15: =IF(E15 ="", "", VLOOKUP(E15, 'Primary Responses'!$E$7:G$10, 3, FALSE)) -> 0 | I15: =IFERROR(IF(ISBLANK(INDIRECT("G15")), NA(), INDIRECT("G15")) * IF(ISBLANK(INDIRECT("H15")), NA(), INDIRECT("H15")), "-") -> 0
B16: =IF(ISBLANK(INDIRECT("E16")), IF(NOT(AND(ISBLANK(INDIRECT("$H16")))), "Error: Please provide a value in the '#' column", "-"), IFERROR("Error: Missing value for '" & INDIRECT(ADDRESS(5, (8 + IF(ISBLANK(H16), 1, NA()) - 1))) & "' in cell " & ADDRESS(ROW(), (8 + IF(ISBLANK(H16), 1, NA()) - 1), 4), "Success: All values provided")) -> 0 | C16: N/A | D16: N/A | F16: =IF(E16 ="", "", VLOOKUP(E16, 'Primary Responses'!$E$7:G$10, 2, FALSE)) -> 0 | G16: =IF(E16 ="", "", VLOOKUP(E16, 'Primary Responses'!$E$7:G$10, 3, FALSE)) -> 0 | I16: =IFERROR(IF(ISBLANK(INDIRECT("G16")), NA(), INDIRECT("G16")) * IF(ISBLANK(INDIRECT("H16")), NA(), INDIRECT("H16")), "-") -> 0
B17: =IF(ISBLANK(INDIRECT("E17")), IF(NOT(AND(ISBLANK(INDIRECT("$H17")))), "Error: Please provide a value in the '#' column", "-"), IFERROR("Error: Missing value for '" & INDIRECT(ADDRESS(5, (8 + IF(ISBLANK(H17), 1, NA()) - 1))) & "' in cell " & ADDRESS(ROW(), (8 + IF(ISBLANK(H17), 1, NA()) - 1), 4), "Success: All values provided")) -> 0 | C17: N/A | D17: N/A | F17: =IF(E17 ="", "", VLOOKUP(E17, 'Primary Responses'!$E$7:G$10, 2, FALSE)) -> 0 | G17: =IF(E17 ="", "", VLOOKUP(E17, 'Primary Responses'!$E$7:G$10, 3, FALSE)) -> 0 | I17: =IFERROR(IF(ISBLANK(INDIRECT("G17")), NA(), INDIRECT("G17")) * IF(ISBLANK(INDIRECT("H17")), NA(), INDIRECT("H17")), "-") -> 0
B18: =IF(ISBLANK(INDIRECT("E18")), IF(NOT(AND(ISBLANK(INDIRECT("$H18")))), "Error: Please provide a value in the '#' column", "-"), IFERROR("Error: Missing value for '" & INDIRECT(ADDRESS(5, (8 + IF(ISBLANK(H18), 1, NA()) - 1))) & "' in cell " & ADDRESS(ROW(), (8 + IF(ISBLANK(H18), 1, NA()) - 1), 4), "Success: All values provided")) -> 0 | C18: N/A | D18: N/A | F18: =IF(E18 ="", "", VLOOKUP(E18, 'Primary Responses'!$E$7:G$10, 2, FALSE)) -> 0 | G18: =IF(E18 ="", "", VLOOKUP(E18, 'Primary Responses'!$E$7:G$10, 3, FALSE)) -> 0 | I18: =IFERROR(IF(ISBLANK(INDIRECT("G18")), NA(), INDIRECT("G18")) * IF(ISBLANK(INDIRECT("H18")), NA(), INDIRECT("H18")), "-") -> 0
B19: =IF(ISBLANK(INDIRECT("E19")), IF(NOT(AND(ISBLANK(INDIRECT("$H19")))), "Error: Please provide a value in the '#' column", "-"), IFERROR("Error: Missing value for '" & INDIRECT(ADDRESS(5, (8 + IF(ISBLANK(H19), 1, NA()) - 1))) & "' in cell " & ADDRESS(ROW(), (8 + IF(ISBLANK(H19), 1, NA()) - 1), 4), "Success: All values provided")) -> 0 | C19: N/A | D19: N/A | F19: =IF(E19 ="", "", VLOOKUP(E19, 'Primary Responses'!$E$7:G$10, 2, FALSE)) -> 0 | G19: =IF(E19 ="", "", VLOOKUP(E19, 'Primary Responses'!$E$7:G$10, 3, FALSE)) -> 0 | I19: =IFERROR(IF(ISBLANK(INDIRECT("G19")), NA(), INDIRECT("G19")) * IF(ISBLANK(INDIRECT("H19")), NA(), INDIRECT("H19")), "-") -> 0
B20: =IF(ISBLANK(INDIRECT("E20")), IF(NOT(AND(ISBLANK(INDIRECT("$H20")))), "Error: Please provide a value in the '#' column", "-"), IFERROR("Error: Missing value for '" & INDIRECT(ADDRESS(5, (8 + IF(ISBLANK(H20), 1, NA()) - 1))) & "' in cell " & ADDRESS(ROW(), (8 + IF(ISBLANK(H20), 1, NA()) - 1), 4), "Success: All values provided")) -> 0 | C20: N/A | D20: N/A | F20: =IF(E20 ="", "", VLOOKUP(E20, 'Primary Responses'!$E$7:G$10, 2, FALSE)) -> 0 | G20: =IF(E20 ="", "", VLOOKUP(E20, 'Primary Responses'!$E$7:G$10, 3, FALSE)) -> 0 | I20: =IFERROR(IF(ISBLANK(INDIRECT("G20")), NA(), INDIRECT("G20")) * IF(ISBLANK(INDIRECT("H20")), NA(), INDIRECT("H20")), "-") -> 0
B21: =IF(ISBLANK(INDIRECT("E21")), IF(NOT(AND(ISBLANK(INDIRECT("$H21")))), "Error: Please provide a value in the '#' column", "-"), IFERROR("Error: Missing value for '" & INDIRECT(ADDRESS(5, (8 + IF(ISBLANK(H21), 1, NA()) - 1))) & "' in cell " & ADDRESS(ROW(), (8 + IF(ISBLANK(H21), 1, NA()) - 1), 4), "Success: All values provided")) -> 0 | C21: N/A | D21: N/A | F21: =IF(E21 ="", "", VLOOKUP(E21, 'Primary Responses'!$E$7:G$10, 2, FALSE)) -> 0 | G21: =IF(E21 ="", "", VLOOKUP(E21, 'Primary Responses'!$E$7:G$10, 3, FALSE)) -> 0 | I21: =IFERROR(IF(ISBLANK(INDIRECT("G21")), NA(), INDIRECT("G21")) * IF(ISBLANK(INDIRECT("H21")), NA(), INDIRECT("H21")), "-") -> 0
B22: =IF(ISBLANK(INDIRECT("E22")), IF(NOT(AND(ISBLANK(INDIRECT("$H22")))), "Error: Please provide a value in the '#' column", "-"), IFERROR("Error: Missing value for '" & INDIRECT(ADDRESS(5, (8 + IF(ISBLANK(H22), 1, NA()) - 1))) & "' in cell " & ADDRESS(ROW(), (8 + IF(ISBLANK(H22), 1, NA()) - 1), 4), "Success: All values provided")) -> 0 | C22: N/A | D22: N/A | F22: =IF(E22 ="", "", VLOOKUP(E22, 'Primary Responses'!$E$7:G$10, 2, FALSE)) -> 0 | G22: =IF(E22 ="", "", VLOOKUP(E22, 'Primary Responses'!$E$7:G$10, 3, FALSE)) -> 0 | I22: =IFERROR(IF(ISBLANK(INDIRECT("G22")), NA(), INDIRECT("G22")) * IF(ISBLANK(INDIRECT("H22")), NA(), INDIRECT("H22")), "-") -> 0
B23: =IF(ISBLANK(INDIRECT("E23")), IF(NOT(AND(ISBLANK(INDIRECT("$H23")))), "Error: Please provide a value in the '#' column", "-"), IFERROR("Error: Missing value for '" & INDIRECT(ADDRESS(5, (8 + IF(ISBLANK(H23), 1, NA()) - 1))) & "' in cell " & ADDRESS(ROW(), (8 + IF(ISBLANK(H23), 1, NA()) - 1), 4), "Success: All values provided")) -> 0 | C23: N/A | D23: N/A | F23: =IF(E23 ="", "", VLOOKUP(E23, 'Primary Responses'!$E$7:G$10, 2, FALSE)) -> 0 | G23: =IF(E23 ="", "", VLOOKUP(E23, 'Primary Responses'!$E$7:G$10, 3, FALSE)) -> 0 | I23: =IFERROR(IF(ISBLANK(INDIRECT("G23")), NA(), INDIRECT("G23")) * IF(ISBLANK(INDIRECT("H23")), NA(), INDIRECT("H23")), "-") -> 0
B24: =IF(ISBLANK(INDIRECT("E24")), IF(NOT(AND(ISBLANK(INDIRECT("$H24")))), "Error: Please provide a value in the '#' column", "-"), IFERROR("Error: Missing value for '" & INDIRECT(ADDRESS(5, (8 + IF(ISBLANK(H24), 1, NA()) - 1))) & "' in cell " & ADDRESS(ROW(), (8 + IF(ISBLANK(H24), 1, NA()) - 1), 4), "Success: All values provided")) -> 0 | C24: N/A | D24: N/A | F24: =IF(E24 ="", "", VLOOKUP(E24, 'Primary Responses'!$E$7:G$10, 2, FALSE)) -> 0 | G24: =IF(E24 ="", "", VLOOKUP(E24, 'Primary Responses'!$E$7:G$10, 3, FALSE)) -> 0 | I24: =IFERROR(IF(ISBLANK(INDIRECT("G24")), NA(), INDIRECT("G24")) * IF(ISBLANK(INDIRECT("H24")), NA(), INDIRECT("H24")), "-") -> 0
B25: =IF(ISBLANK(INDIRECT("E25")), IF(NOT(AND(ISBLANK(INDIRECT("$H25")))), "Error: Please provide a value in the '#' column", "-"), IFERROR("Error: Missing value for '" & INDIRECT(ADDRESS(5, (8 + IF(ISBLANK(H25), 1, NA()) - 1))) & "' in cell " & ADDRESS(ROW(), (8 + IF(ISBLANK(H25), 1, NA()) - 1), 4), "Success: All values provided")) -> 0 | C25: N/A | D25: N/A | F25: =IF(E25 ="", "", VLOOKUP(E25, 'Primary Responses'!$E$7:G$10, 2, FALSE)) -> 0 | G25: =IF(E25 ="", "", VLOOKUP(E25, 'Primary Responses'!$E$7:G$10, 3, FALSE)) -> 0 | I25: =IFERROR(IF(ISBLANK(INDIRECT("G25")), NA(), INDIRECT("G25")) * IF(ISBLANK(INDIRECT("H25")), NA(), INDIRECT("H25")), "-") -> 0
B26: =IF(ISBLANK(INDIRECT("E26")), IF(NOT(AND(ISBLANK(INDIRECT("$H26")))), "Error: Please provide a value in the '#' column", "-"), IFERROR("Error: Missing value for '" & INDIRECT(ADDRESS(5, (8 + IF(ISBLANK(H26), 1, NA()) - 1))) & "' in cell " & ADDRESS(ROW(), (8 + IF(ISBLANK(H26), 1, NA()) - 1), 4), "Success: All values provided")) -> 0 | C26: N/A | D26: N/A | F26: =IF(E26 ="", "", VLOOKUP(E26, 'Primary Responses'!$E$7:G$10, 2, FALSE)) -> 0 | G26: =IF(E26 ="", "", VLOOKUP(E26, 'Primary Responses'!$E$7:G$10, 3, FALSE)) -> 0 | I26: =IFERROR(IF(ISBLANK(INDIRECT("G26")), NA(), INDIRECT("G26")) * IF(ISBLANK(INDIRECT("H26")), NA(), INDIRECT("H26")), "-") -> 0
B27: =IF(ISBLANK(INDIRECT("E27")), IF(NOT(AND(ISBLANK(INDIRECT("$H27")))), "Error: Please provide a value in the '#' column", "-"), IFERROR("Error: Missing value for '" & INDIRECT(ADDRESS(5, (8 + IF(ISBLANK(H27), 1, NA()) - 1))) & "' in cell " & ADDRESS(ROW(), (8 + IF(ISBLANK(H27), 1, NA()) - 1), 4), "Success: All values provided")) -> 0 | C27: N/A | D27: N/A | F27: =IF(E27 ="", "", VLOOKUP(E27, 'Primary Responses'!$E$7:G$10, 2, FALSE)) -> 0 | G27: =IF(E27 ="", "", VLOOKUP(E27, 'Primary Responses'!$E$7:G$10, 3, FALSE)) -> 0 | I27: =IFERROR(IF(ISBLANK(INDIRECT("G27")), NA(), INDIRECT("G27")) * IF(ISBLANK(INDIRECT("H27")), NA(), INDIRECT("H27")), "-") -> 0
B28: =IF(ISBLANK(INDIRECT("E28")), IF(NOT(AND(ISBLANK(INDIRECT("$H28")))), "Error: Please provide a value in the '#' column", "-"), IFERROR("Error: Missing value for '" & INDIRECT(ADDRESS(5, (8 + IF(ISBLANK(H28), 1, NA()) - 1))) & "' in cell " & ADDRESS(ROW(), (8 + IF(ISBLANK(H28), 1, NA()) - 1), 4), "Success: All values provided")) -> 0 | C28: N/A | D28: N/A | F28: =IF(E28 ="", "", VLOOKUP(E28, 'Primary Responses'!$E$7:G$10, 2, FALSE)) -> 0 | G28: =IF(E28 ="", "", VLOOKUP(E28, 'Primary Responses'!$E$7:G$10, 3, FALSE)) -> 0 | I28: =IFERROR(IF(ISBLANK(INDIRECT("G28")), NA(), INDIRECT("G28")) * IF(ISBLANK(INDIRECT("H28")), NA(), INDIRECT("H28")), "-") -> 0
B29: =IF(ISBLANK(INDIRECT("E29")), IF(NOT(AND(ISBLANK(INDIRECT("$H29")))), "Error: Please provide a value in the '#' column", "-"), IFERROR("Error: Missing value for '" & INDIRECT(ADDRESS(5, (8 + IF(ISBLANK(H29), 1, NA()) - 1))) & "' in cell " & ADDRESS(ROW(), (8 + IF(ISBLANK(H29), 1, NA()) - 1), 4), "Success: All values provided")) -> 0 | C29: N/A | D29: N/A | F29: =IF(E29 ="", "", VLOOKUP(E29, 'Primary Responses'!$E$7:G$10, 2, FALSE)) -> 0 | G29: =IF(E29 ="", "", VLOOKUP(E29, 'Primary Responses'!$E$7:G$10, 3, FALSE)) -> 0 | I29: =IFERROR(IF(ISBLANK(INDIRECT("G29")), NA(), INDIRECT("G29")) * IF(ISBLANK(INDIRECT("H29")), NA(), INDIRECT("H29")), "-") -> 0
B30: =IF(ISBLANK(INDIRECT("E30")), IF(NOT(AND(ISBLANK(INDIRECT("$H30")))), "Error: Please provide a value in the '#' column", "-"), IFERROR("Error: Missing value for '" & INDIRECT(ADDRESS(5, (8 + IF(ISBLANK(H30), 1, NA()) - 1))) & "' in cell " & ADDRESS(ROW(), (8 + IF(ISBLANK(H30), 1, NA()) - 1), 4), "Success: All values provided")) -> 0 | C30: N/A | D30: N/A | F30: =IF(E30 ="", "", VLOOKUP(E30, 'Primary Responses'!$E$7:G$10, 2, FALSE)) -> 0 | G30: =IF(E30 ="", "", VLOOKUP(E30, 'Primary Responses'!$E$7:G$10, 3, FALSE)) -> 0 | I30: =IFERROR(IF(ISBLANK(INDIRECT("G30")), NA(), INDIRECT("G30")) * IF(ISBLANK(INDIRECT("H30")), NA(), INDIRECT("H30")), "-") -> 0
B31: =IF(ISBLANK(INDIRECT("E31")), IF(NOT(AND(ISBLANK(INDIRECT("$H31")))), "Error: Please provide a value in the '#' column", "-"), IFERROR("Error: Missing value for '" & INDIRECT(ADDRESS(5, (8 + IF(ISBLANK(H31), 1, NA()) - 1))) & "' in cell " & ADDRESS(ROW(), (8 + IF(ISBLANK(H31), 1, NA()) - 1), 4), "Success: All values provided")) -> 0 | C31: N/A | D31: N/A | F31: =IF(E31 ="", "", VLOOKUP(E31, 'Primary Responses'!$E$7:G$10, 2, FALSE)) -> 0 | G31: =IF(E31 ="", "", VLOOKUP(E31, 'Primary Responses'!$E$7:G$10, 3, FALSE)) -> 0 | I31: =IFERROR(IF(ISBLANK(INDIRECT("G31")), NA(), INDIRECT("G31")) * IF(ISBLANK(INDIRECT("H31")), NA(), INDIRECT("H31")), "-") -> 0
B32: =IF(ISBLANK(INDIRECT("E32")), IF(NOT(AND(ISBLANK(INDIRECT("$H32")))), "Error: Please provide a value in the '#' column", "-"), IFERROR("Error: Missing value for '" & INDIRECT(ADDRESS(5, (8 + IF(ISBLANK(H32), 1, NA()) - 1))) & "' in cell " & ADDRESS(ROW(), (8 + IF(ISBLANK(H32), 1, NA()) - 1), 4), "Success: All values provided")) -> 0 | C32: N/A | D32: N/A | F32: =IF(E32 ="", "", VLOOKUP(E32, 'Primary Responses'!$E$7:G$10, 2, FALSE)) -> 0 | G32: =IF(E32 ="", "", VLOOKUP(E32, 'Primary Responses'!$E$7:G$10, 3, FALSE)) -> 0 | I32: =IFERROR(IF(ISBLANK(INDIRECT("G32")), NA(), INDIRECT("G32")) * IF(ISBLANK(INDIRECT("H32")), NA(), INDIRECT("H32")), "-") -> 0
B33: =IF(ISBLANK(INDIRECT("E33")), IF(NOT(AND(ISBLANK(INDIRECT("$H33")))), "Error: Please provide a value in the '#' column", "-"), IFERROR("Error: Missing value for '" & INDIRECT(ADDRESS(5, (8 + IF(ISBLANK(H33), 1, NA()) - 1))) & "' in cell " & ADDRESS(ROW(), (8 + IF(ISBLANK(H33), 1, NA()) - 1), 4), "Success: All values provided")) -> 0 | C33: N/A | D33: N/A | F33: =IF(E33 ="", "", VLOOKUP(E33, 'Primary Responses'!$E$7:G$10, 2, FALSE)) -> 0 | G33: =IF(E33 ="", "", VLOOKUP(E33, 'Primary Responses'!$E$7:G$10, 3, FALSE)) -> 0 | I33: =IFERROR(IF(ISBLANK(INDIRECT("G33")), NA(), INDIRECT("G33")) * IF(ISBLANK(INDIRECT("H33")), NA(), INDIRECT("H33")), "-") -> 0
B34: =IF(ISBLANK(INDIRECT("E34")), IF(NOT(AND(ISBLANK(INDIRECT("$H34")))), "Error: Please provide a value in the '#' column", "-"), IFERROR("Error: Missing value for '" & INDIRECT(ADDRESS(5, (8 + IF(ISBLANK(H34), 1, NA()) - 1))) & "' in cell " & ADDRESS(ROW(), (8 + IF(ISBLANK(H34), 1, NA()) - 1), 4), "Success: All values provided")) -> 0 | C34: N/A | D34: N/A | F34: =IF(E34 ="", "", VLOOKUP(E34, 'Primary Responses'!$E$7:G$10, 2, FALSE)) -> 0 | G34: =IF(E34 ="", "", VLOOKUP(E34, 'Primary Responses'!$E$7:G$10, 3, FALSE)) -> 0 | I34: =IFERROR(IF(ISBLANK(INDIRECT("G34")), NA(), INDIRECT("G34")) * IF(ISBLANK(INDIRECT("H34")), NA(), INDIRECT("H34")), "-") -> 0
B35: =IF(ISBLANK(INDIRECT("E35")), IF(NOT(AND(ISBLANK(INDIRECT("$H35")))), "Error: Please provide a value in the '#' column", "-"), IFERROR("Error: Missing value for '" & INDIRECT(ADDRESS(5, (8 + IF(ISBLANK(H35), 1, NA()) - 1))) & "' in cell " & ADDRESS(ROW(), (8 + IF(ISBLANK(H35), 1, NA()) - 1), 4), "Success: All values provided")) -> 0 | C35: N/A | D35: N/A | F35: =IF(E35 ="", "", VLOOKUP(E35, 'Primary Responses'!$E$7:G$10, 2, FALSE)) -> 0 | G35: =IF(E35 ="", "", VLOOKUP(E35, 'Primary Responses'!$E$7:G$10, 3, FALSE)) -> 0 | I35: =IFERROR(IF(ISBLANK(INDIRECT("G35")), NA(), INDIRECT("G35")) * IF(ISBLANK(INDIRECT("H35")), NA(), INDIRECT("H35")), "-") -> 0
B36: =IF(ISBLANK(INDIRECT("E36")), IF(NOT(AND(ISBLANK(INDIRECT("$H36")))), "Error: Please provide a value in the '#' column", "-"), IFERROR("Error: Missing value for '" & INDIRECT(ADDRESS(5, (8 + IF(ISBLANK(H36), 1, NA()) - 1))) & "' in cell " & ADDRESS(ROW(), (8 + IF(ISBLANK(H36), 1, NA()) - 1), 4), "Success: All values provided")) -> 0 | C36: N/A | D36: N/A | F36: =IF(E36 ="", "", VLOOKUP(E36, 'Primary Responses'!$E$7:G$10, 2, FALSE)) -> 0 | G36: =IF(E36 ="", "", VLOOKUP(E36, 'Primary Responses'!$E$7:G$10, 3, FALSE)) -> 0 | I36: =IFERROR(IF(ISBLANK(INDIRECT("G36")), NA(), INDIRECT("G36")) * IF(ISBLANK(INDIRECT("H36")), NA(), INDIRECT("H36")), "-") -> 0
B37: =IF(ISBLANK(INDIRECT("E37")), IF(NOT(AND(ISBLANK(INDIRECT("$H37")))), "Error: Please provide a value in the '#' column", "-"), IFERROR("Error: Missing value for '" & INDIRECT(ADDRESS(5, (8 + IF(ISBLANK(H37), 1, NA()) - 1))) & "' in cell " & ADDRESS(ROW(), (8 + IF(ISBLANK(H37), 1, NA()) - 1), 4), "Success: All values provided")) -> 0 | C37: N/A | D37: N/A | F37: =IF(E37 ="", "", VLOOKUP(E37, 'Primary Responses'!$E$7:G$10, 2, FALSE)) -> 0 | G37: =IF(E37 ="", "", VLOOKUP(E37, 'Primary Responses'!$E$7:G$10, 3, FALSE)) -> 0 | I37: =IFERROR(IF(ISBLANK(INDIRECT("G37")), NA(), INDIRECT("G37")) * IF(ISBLANK(INDIRECT("H37")), NA(), INDIRECT("H37")), "-") -> 0
B38: =IF(ISBLANK(INDIRECT("E38")), IF(NOT(AND(ISBLANK(INDIRECT("$H38")))), "Error: Please provide a value in the '#' column", "-"), IFERROR("Error: Missing value for '" & INDIRECT(ADDRESS(5, (8 + IF(ISBLANK(H38), 1, NA()) - 1))) & "' in cell " & ADDRESS(ROW(), (8 + IF(ISBLANK(H38), 1, NA()) - 1), 4), "Success: All values provided")) -> 0 | C38: N/A | D38: N/A | F38: =IF(E38 ="", "", VLOOKUP(E38, 'Primary Responses'!$E$7:G$10, 2, FALSE)) -> 0 | G38: =IF(E38 ="", "", VLOOKUP(E38, 'Primary Responses'!$E$7:G$10, 3, FALSE)) -> 0 | I38: =IFERROR(IF(ISBLANK(INDIRECT("G38")), NA(), INDIRECT("G38")) * IF(ISBLANK(INDIRECT("H38")), NA(), INDIRECT("H38")), "-") -> 0
B39: =IF(ISBLANK(INDIRECT("E39")), IF(NOT(AND(ISBLANK(INDIRECT("$H39")))), "Error: Please provide a value in the '#' column", "-"), IFERROR("Error: Missing value for '" & INDIRECT(ADDRESS(5, (8 + IF(ISBLANK(H39), 1, NA()) - 1))) & "' in cell " & ADDRESS(ROW(), (8 + IF(ISBLANK(H39), 1, NA()) - 1), 4), "Success: All values provided")) -> 0 | C39: N/A | D39: N/A | F39: =IF(E39 ="", "", VLOOKUP(E39, 'Primary Responses'!$E$7:G$10, 2, FALSE)) -> 0 | G39: =IF(E39 ="", "", VLOOKUP(E39, 'Primary Responses'!$E$7:G$10, 3, FALSE)) -> 0 | I39: =IFERROR(IF(ISBLANK(INDIRECT("G39")), NA(), INDIRECT("G39")) * IF(ISBLANK(INDIRECT("H39")), NA(), INDIRECT("H39")), "-") -> 0
B40: =IF(ISBLANK(INDIRECT("E40")), IF(NOT(AND(ISBLANK(INDIRECT("$H40")))), "Error: Please provide a value in the '#' column", "-"), IFERROR("Error: Missing value for '" & INDIRECT(ADDRESS(5, (8 + IF(ISBLANK(H40), 1, NA()) - 1))) & "' in cell " & ADDRESS(ROW(), (8 + IF(ISBLANK(H40), 1, NA()) - 1), 4), "Success: All values provided")) -> 0 | C40: N/A | D40: N/A | F40: =IF(E40 ="", "", VLOOKUP(E40, 'Primary Responses'!$E$7:G$10, 2, FALSE)) -> 0 | G40: =IF(E40 ="", "", VLOOKUP(E40, 'Primary Responses'!$E$7:G$10, 3, FALSE)) -> 0 | I40: =IFERROR(IF(ISBLANK(INDIRECT("G40")), NA(), INDIRECT("G40")) * IF(ISBLANK(INDIRECT("H40")), NA(), INDIRECT("H40")), "-") -> 0
B41: =IF(ISBLANK(INDIRECT("E41")), IF(NOT(AND(ISBLANK(INDIRECT("$H41")))), "Error: Please provide a value in the '#' column", "-"), IFERROR("Error: Missing value for '" & INDIRECT(ADDRESS(5, (8 + IF(ISBLANK(H41), 1, NA()) - 1))) & "' in cell " & ADDRESS(ROW(), (8 + IF(ISBLANK(H41), 1, NA()) - 1), 4), "Success: All values provided")) -> 0 | C41: N/A | D41: N/A | F41: =IF(E41 ="", "", VLOOKUP(E41, 'Primary Responses'!$E$7:G$10, 2, FALSE)) -> 0 | G41: =IF(E41 ="", "", VLOOKUP(E41, 'Primary Responses'!$E$7:G$10, 3, FALSE)) -> 0 | I41: =IFERROR(IF(ISBLANK(INDIRECT("G41")), NA(), INDIRECT("G41")) * IF(ISBLANK(INDIRECT("H41")), NA(), INDIRECT("H41")), "-") -> 0
...
