Workbook

Sheet Instructions
B8: Base Bid (BT-36KM)
B10: Please fill out the include Bid Table as part of your submission. The fields here will correspond to the fields within Appendix B and figures must match information provided in the same section.
B12: Instructions
B14: - When pasting content, please use Paste Special as Text without any formatting. - You can only submit text based responses, please do not use special characters like emojis. - Please do not change the structure of any of the worksheets. Changing the structure will invalidate your submission. - Any additional information outside of the given structure of the worksheets will not be visible to the purchaser. - Please do not save this file in a different format. Saving this file in a different format will invalidate your submission. - Please follow the instructions provided along with this file to submit it back to Euna Procurement. - By default, every item has `No Bid` selected for the `Bid/No Bid Decision` column. - If you decide to bid on an item, then you must select `Bid` in the `Bid/No Bid Decision` column and all of the other editable cells for the item must contain a valid value. - If you decide not to bid on an item, then you must select `No Bid` in the `Bid/No Bid Decision` column and all of the other editable cells for the item must be blank. - To submit additional bids for an item, you must go to the Additional Responses tab. - If you decide to submit an additional response for an item, then you must also complete a primary response bid for that item. - Every item has a unique item number found in column D. To submit an additional bid for an item, enter the item number from the Primary Responses sheet into the blank item number cell on the Additional Responses sheet (column D). - Entering the item number on the Additional responses sheet will cause the line to populate with item-specific info. An additional response can now be completed by filling in the blank cells with the bid information you wish to submit. - You can submit as many additional bids for each item as you would like - Please do not use Excel formulas in your responses. - If you have any questions regarding the content of this file, please contact the appropriate purchaser. - If you have any technical problems, please contact Euna Procurement at support.procurement@eunasolutions.com.
ZZ702: 2bd753df3f273fe9ea16f9f665db749d4680c3f9501150e27230734fea8a7fda3ac1e378eef27c5917f3fd1dcdbea3fec9dd19b7bbcb3c65edd1e989b77cc90c4YSfJklE8cBL7G1TZ4KUfKt+X07gBYAJIQPiqMjfi2y0U1TdrkhAR2HBiqTH0+tB

Sheet Primary Responses
B2: Primary Responses
B3: =IF((COUNTIF(B7:B10, "Error*") + COUNTIF(H3:H3, "Error*")) > 0, "Error: Check cell(s)" &IF(COUNTIF(B7:B10, "Error*") > 0, (" " & ADDRESS(7 + MATCH("Error*", B7:B10, 0) - 1, COLUMN(), 4)), "") & IF(COUNTIF(H3:H3, "Error*") > 0, (" " & ADDRESS(ROW(), 8 + MATCH("Error*", H3:H3, 0) - 1, 4)), ""), "Success: All data is valid!") -> 0 | H3: =IFERROR("Error: Cell " & ADDRESS((7 + MATCH(FALSE, INDEX(NOT(NOT(ISNUMBER(H7:H10)) * NOT(ISBLANK(H7:H10))), 0), 0) - 1), COLUMN(), 4) & " must be Numeric", "") -> 0
H4: Numeric
B5: Status | D5: Bid/No Bid Decision | E5: # | F5: Description | G5: Quantity Required | H5: Unit Price | I5: Total Cost
B6: Helper:ResponseStatus | C6: BidTableItem:BidTableItemID | D6: BidTableItemResponse:IsBidding | E6: Helper:BidTableBasketOrderWithItemOrder | F6: BidTableItem:ItemName | G6: BidTableItem:412310 | H6: BidTableItemResponse:355378 | I6: BidTableFormula:177657
B7: MAIN BID
B8: =IF(D8 = "No Bid", IFERROR("Error: Clear values for '" & INDIRECT(ADDRESS(5, (8 + IF(NOT(ISBLANK(H8)), 1, NA()) - 1))) & "' in cell " & ADDRESS(ROW(), (8 + IF(NOT(ISBLANK(H8)), 1, NA()) - 1), 4) & " or select 'Bid'", "Not Bidding"), IF(D8 = "Bid", IFERROR("Error: Missing value for '" & INDIRECT(ADDRESS(5, (8 + IF(ISBLANK(H8), 1, NA()) - 1))) & "' in cell " & ADDRESS(ROW(), (8 + IF(ISBLANK(H8), 1, NA()) - 1), 4), "Success: All values provided"), "Error: Invalid Bid/No Bid Decision")) -> 0 | C8: 4012602 | D8: No Bid | E8: #1-1 | F8: Total Base Bid | G8: 1 | I8: =IFERROR(IF(ISBLANK(INDIRECT("G8")), NA(), INDIRECT("G8")) * IF(ISBLANK(INDIRECT("H8")), NA(), INDIRECT("H8")), "-") -> 0
B9: Basket Total | I9: =SUM(I8:I8) -> 0
B11: Grand Total | I11: =SUM(I8:I8) -> 0

Sheet Additional Responses
B2: Additional Responses
B3: =IF((COUNTIF(B7:B106, "Error*") + COUNTIF(H3:H3, "Error*")) > 0, "Error: Check cell(s)" &IF(COUNTIF(B7:B106, "Error*") > 0, (" " & ADDRESS(7 + MATCH("Error*", B7:B106, 0) - 1, COLUMN(), 4)), "") & IF(COUNTIF(H3:H3, "Error*") > 0, (" " & ADDRESS(ROW(), 8 + MATCH("Error*", H3:H3, 0) - 1, 4)), ""), "Success: All data is valid!") -> 0 | H3: =IFERROR("Error: Cell " & ADDRESS((7 + MATCH(FALSE, INDEX(NOT(NOT(ISNUMBER(H7:H106)) * NOT(ISBLANK(H7:H106))), 0), 0) - 1), COLUMN(), 4) & " must be Numeric", "") -> 0
H4: Numeric
B5: Status | D5: Bid/No Bid Decision | E5: # | F5: Description | G5: Quantity Required | H5: Unit Price | I5: Total Cost
B6: Helper:ResponseStatus | C6: BidTableItem:BidTableItemID | D6: BidTableItemResponse:IsBidding | E6: Helper:BidTableBasketOrderWithItemOrder | F6: BidTableItem:ItemName | G6: BidTableItem:412310 | H6: BidTableItemResponse:355378 | I6: BidTableFormula:177657
B7: =IF(ISBLANK(INDIRECT("E7")), IF(NOT(AND(ISBLANK(INDIRECT("$H7")))), "Error: Please provide a value in the '#' column", "-"), IFERROR("Error: Missing value for '" & INDIRECT(ADDRESS(5, (8 + IF(ISBLANK(H7), 1, NA()) - 1))) & "' in cell " & ADDRESS(ROW(), (8 + IF(ISBLANK(H7), 1, NA()) - 1), 4), "Success: All values provided")) -> 0 | C7: N/A | D7: N/A | F7: =IF(E7 ="", "", VLOOKUP(E7, 'Primary Responses'!$E$7:G$10, 2, FALSE)) -> 0 | G7: =IF(E7 ="", "", VLOOKUP(E7, 'Primary Responses'!$E$7:G$10, 3, FALSE)) -> 0 | I7: =IFERROR(IF(ISBLANK(INDIRECT("G7")), NA(), INDIRECT("G7")) * IF(ISBLANK(INDIRECT("H7")), NA(), INDIRECT("H7")), "-") -> 0
B8: =IF(ISBLANK(INDIRECT("E8")), IF(NOT(AND(ISBLANK(INDIRECT("$H8")))), "Error: Please provide a value in the '#' column", "-"), IFERROR("Error: Missing value for '" & INDIRECT(ADDRESS(5, (8 + IF(ISBLANK(H8), 1, NA()) - 1))) & "' in cell " & ADDRESS(ROW(), (8 + IF(ISBLANK(H8), 1, NA()) - 1), 4), "Success: All values provided")) -> 0 | C8: N/A | D8: N/A | F8: =IF(E8 ="", "", VLOOKUP(E8, 'Primary Responses'!$E$7:G$10, 2, FALSE)) -> 0 | G8: =IF(E8 ="", "", VLOOKUP(E8, 'Primary Responses'!$E$7:G$10, 3, FALSE)) -> 0 | I8: =IFERROR(IF(ISBLANK(INDIRECT("G8")), NA(), INDIRECT("G8")) * IF(ISBLANK(INDIRECT("H8")), NA(), INDIRECT("H8")), "-") -> 0
B9: =IF(ISBLANK(INDIRECT("E9")), IF(NOT(AND(ISBLANK(INDIRECT("$H9")))), "Error: Please provide a value in the '#' column", "-"), IFERROR("Error: Missing value for '" & INDIRECT(ADDRESS(5, (8 + IF(ISBLANK(H9), 1, NA()) - 1))) & "' in cell " & ADDRESS(ROW(), (8 + IF(ISBLANK(H9), 1, NA()) - 1), 4), "Success: All values provided")) -> 0 | C9: N/A | D9: N/A | F9: =IF(E9 ="", "", VLOOKUP(E9, 'Primary Responses'!$E$7:G$10, 2, FALSE)) -> 0 | G9: =IF(E9 ="", "", VLOOKUP(E9, 'Primary Responses'!$E$7:G$10, 3, FALSE)) -> 0 | I9: =IFERROR(IF(ISBLANK(INDIRECT("G9")), NA(), INDIRECT("G9")) * IF(ISBLANK(INDIRECT("H9")), NA(), INDIRECT("H9")), "-") -> 0
B10: =IF(ISBLANK(INDIRECT("E10")), IF(NOT(AND(ISBLANK(INDIRECT("$H10")))), "Error: Please provide a value in the '#' column", "-"), IFERROR("Error: Missing value for '" & INDIRECT(ADDRESS(5, (8 + IF(ISBLANK(H10), 1, NA()) - 1))) & "' in cell " & ADDRESS(ROW(), (8 + IF(ISBLANK(H10), 1, NA()) - 1), 4), "Success: All values provided")) -> 0 | C10: N/A | D10: N/A | F10: =IF(E10 ="", "", VLOOKUP(E10, 'Primary Responses'!$E$7:G$10, 2, FALSE)) -> 0 | G10: =IF(E10 ="", "", VLOOKUP(E10, 'Primary Responses'!$E$7:G$10, 3, FALSE)) -> 0 | I10: =IFERROR(IF(ISBLANK(INDIRECT("G10")), NA(), INDIRECT("G10")) * IF(ISBLANK(INDIRECT("H10")), NA(), INDIRECT("H10")), "-") -> 0
B11: =IF(ISBLANK(INDIRECT("E11")), IF(NOT(AND(ISBLANK(INDIRECT("$H11")))), "Error: Please provide a value in the '#' column", "-"), IFERROR("Error: Missing value for '" & INDIRECT(ADDRESS(5, (8 + IF(ISBLANK(H11), 1, NA()) - 1))) & "' in cell " & ADDRESS(ROW(), (8 + IF(ISBLANK(H11), 1, NA()) - 1), 4), "Success: All values provided")) -> 0 | C11: N/A | D11: N/A | F11: =IF(E11 ="", "", VLOOKUP(E11, 'Primary Responses'!$E$7:G$10, 2, FALSE)) -> 0 | G11: =IF(E11 ="", "", VLOOKUP(E11, 'Primary Responses'!$E$7:G$10, 3, FALSE)) -> 0 | I11: =IFERROR(IF(ISBLANK(INDIRECT("G11")), NA(), INDIRECT("G11")) * IF(ISBLANK(INDIRECT("H11")), NA(), INDIRECT("H11")), "-") -> 0
B12: =IF(ISBLANK(INDIRECT("E12")), IF(NOT(AND(ISBLANK(INDIRECT("$H12")))), "Error: Please provide a value in the '#' column", "-"), IFERROR("Error: Missing value for '" & INDIRECT(ADDRESS(5, (8 + IF(ISBLANK(H12), 1, NA()) - 1))) & "' in cell " & ADDRESS(ROW(), (8 + IF(ISBLANK(H12), 1, NA()) - 1), 4), "Success: All values provided")) -> 0 | C12: N/A | D12: N/A | F12: =IF(E12 ="", "", VLOOKUP(E12, 'Primary Responses'!$E$7:G$10, 2, FALSE)) -> 0 | G12: =IF(E12 ="", "", VLOOKUP(E12, 'Primary Responses'!$E$7:G$10, 3, FALSE)) -> 0 | I12: =IFERROR(IF(ISBLANK(INDIRECT("G12")), NA(), INDIRECT("G12")) * IF(ISBLANK(INDIRECT("H12")), NA(), INDIRECT("H12")), "-") -> 0
B13: =IF(ISBLANK(INDIRECT("E13")), IF(NOT(AND(ISBLANK(INDIRECT("$H13")))), "Error: Please provide a value in the '#' column", "-"), IFERROR("Error: Missing value for '" & INDIRECT(ADDRESS(5, (8 + IF(ISBLANK(H13), 1, NA()) - 1))) & "' in cell " & ADDRESS(ROW(), (8 + IF(ISBLANK(H13), 1, NA()) - 1), 4), "Success: All values provided")) -> 0 | C13: N/A | D13: N/A | F13: =IF(E13 ="", "", VLOOKUP(E13, 'Primary Responses'!$E$7:G$10, 2, FALSE)) -> 0 | G13: =IF(E13 ="", "", VLOOKUP(E13, 'Primary Responses'!$E$7:G$10, 3, FALSE)) -> 0 | I13: =IFERROR(IF(ISBLANK(INDIRECT("G13")), NA(), INDIRECT("G13")) * IF(ISBLANK(INDIRECT("H13")), NA(), INDIRECT("H13")), "-") -> 0
B14: =IF(ISBLANK(INDIRECT("E14")), IF(NOT(AND(ISBLANK(INDIRECT("$H14")))), "Error: Please provide a value in the '#' column", "-"), IFERROR("Error: Missing value for '" & INDIRECT(ADDRESS(5, (8 + IF(ISBLANK(H14), 1, NA()) - 1))) & "' in cell " & ADDRESS(ROW(), (8 + IF(ISBLANK(H14), 1, NA()) - 1), 4), "Success: All values provided")) -> 0 | C14: N/A | D14: N/A | F14: =IF(E14 ="", "", VLOOKUP(E14, 'Primary Responses'!$E$7:G$10, 2, FALSE)) -> 0 | G14: =IF(E14 ="", "", VLOOKUP(E14, 'Primary Responses'!$E$7:G$10, 3, FALSE)) -> 0 | I14: =IFERROR(IF(ISBLANK(INDIRECT("G14")), NA(), INDIRECT("G14")) * IF(ISBLANK(INDIRECT("H14")), NA(), INDIRECT("H14")), "-") -> 0
B15: =IF(ISBLANK(INDIRECT("E15")), IF(NOT(AND(ISBLANK(INDIRECT("$H15")))), "Error: Please provide a value in the '#' column", "-"), IFERROR("Error: Missing value for '" & INDIRECT(ADDRESS(5, (8 + IF(ISBLANK(H15), 1, NA()) - 1))) & "' in cell " & ADDRESS(ROW(), (8 + IF(ISBLANK(H15), 1, NA()) - 1), 4), "Success: All values provided")) -> 0 | C15: N/A | D15: N/A | F15: =IF(E15 ="", "", VLOOKUP(E15, 'Primary Responses'!$E$7:G$10, 2, FALSE)) -> 0 | G15: =IF(E15 ="", "", VLOOKUP(E15, 'Primary Responses'!$E$7:G$10, 3, FALSE)) -> 0 | I15: =IFERROR(IF(ISBLANK(INDIRECT("G15")), NA(), INDIRECT("G15")) * IF(ISBLANK(INDIRECT("H15")), NA(), INDIRECT("H15")), "-") -> 0
B16: =IF(ISBLANK(INDIRECT("E16")), IF(NOT(AND(ISBLANK(INDIRECT("$H16")))), "Error: Please provide a value in the '#' column", "-"), IFERROR("Error: Missing value for '" & INDIRECT(ADDRESS(5, (8 + IF(ISBLANK(H16), 1, NA()) - 1))) & "' in cell " & ADDRESS(ROW(), (8 + IF(ISBLANK(H16), 1, NA()) - 1), 4), "Success: All values provided")) -> 0 | C16: N/A | D16: N/A | F16: =IF(E16 ="", "", VLOOKUP(E16, 'Primary Responses'!$E$7:G$10, 2, FALSE)) -> 0 | G16: =IF(E16 ="", "", VLOOKUP(E16, 'Primary Responses'!$E$7:G$10, 3, FALSE)) -> 0 | I16: =IFERROR(IF(ISBLANK(INDIRECT("G16")), NA(), INDIRECT("G16")) * IF(ISBLANK(INDIRECT("H16")), NA(), INDIRECT("H16")), "-") -> 0
B17: =IF(ISBLANK(INDIRECT("E17")), IF(NOT(AND(ISBLANK(INDIRECT("$H17")))), "Error: Please provide a value in the '#' column", "-"), IFERROR("Error: Missing value for '" & INDIRECT(ADDRESS(5, (8 + IF(ISBLANK(H17), 1, NA()) - 1))) & "' in cell " & ADDRESS(ROW(), (8 + IF(ISBLANK(H17), 1, NA()) - 1), 4), "Success: All values provided")) -> 0 | C17: N/A | D17: N/A | F17: =IF(E17 ="", "", VLOOKUP(E17, 'Primary Responses'!$E$7:G$10, 2, FALSE)) -> 0 | G17: =IF(E17 ="", "", VLOOKUP(E17, 'Primary Responses'!$E$7:G$10, 3, FALSE)) -> 0 | I17: =IFERROR(IF(ISBLANK(INDIRECT("G17")), NA(), INDIRECT("G17")) * IF(ISBLANK(INDIRECT("H17")), NA(), INDIRECT("H17")), "-") -> 0
B18: =IF(ISBLANK(INDIRECT("E18")), IF(NOT(AND(ISBLANK(INDIRECT("$H18")))), "Error: Please provide a value in the '#' column", "-"), IFERROR("Error: Missing value for '" & INDIRECT(ADDRESS(5, (8 + IF(ISBLANK(H18), 1, NA()) - 1))) & "' in cell " & ADDRESS(ROW(), (8 + IF(ISBLANK(H18), 1, NA()) - 1), 4), "Success: All values provided")) -> 0 | C18: N/A | D18: N/A | F18: =IF(E18 ="", "", VLOOKUP(E18, 'Primary Responses'!$E$7:G$10, 2, FALSE)) -> 0 | G18: =IF(E18 ="", "", VLOOKUP(E18, 'Primary Responses'!$E$7:G$10, 3, FALSE)) -> 0 | I18: =IFERROR(IF(ISBLANK(INDIRECT("G18")), NA(), INDIRECT("G18")) * IF(ISBLANK(INDIRECT("H18")), NA(), INDIRECT("H18")), "-") -> 0
B19: =IF(ISBLANK(INDIRECT("E19")), IF(NOT(AND(ISBLANK(INDIRECT("$H19")))), "Error: Please provide a value in the '#' column", "-"), IFERROR("Error: Missing value for '" & INDIRECT(ADDRESS(5, (8 + IF(ISBLANK(H19), 1, NA()) - 1))) & "' in cell " & ADDRESS(ROW(), (8 + IF(ISBLANK(H19), 1, NA()) - 1), 4), "Success: All values provided")) -> 0 | C19: N/A | D19: N/A | F19: =IF(E19 ="", "", VLOOKUP(E19, 'Primary Responses'!$E$7:G$10, 2, FALSE)) -> 0 | G19: =IF(E19 ="", "", VLOOKUP(E19, 'Primary Responses'!$E$7:G$10, 3, FALSE)) -> 0 | I19: =IFERROR(IF(ISBLANK(INDIRECT("G19")), NA(), INDIRECT("G19")) * IF(ISBLANK(INDIRECT("H19")), NA(), INDIRECT("H19")), "-") -> 0
B20: =IF(ISBLANK(INDIRECT("E20")), IF(NOT(AND(ISBLANK(INDIRECT("$H20")))), "Error: Please provide a value in the '#' column", "-"), IFERROR("Error: Missing value for '" & INDIRECT(ADDRESS(5, (8 + IF(ISBLANK(H20), 1, NA()) - 1))) & "' in cell " & ADDRESS(ROW(), (8 + IF(ISBLANK(H20), 1, NA()) - 1), 4), "Success: All values provided")) -> 0 | C20: N/A | D20: N/A | F20: =IF(E20 ="", "", VLOOKUP(E20, 'Primary Responses'!$E$7:G$10, 2, FALSE)) -> 0 | G20: =IF(E20 ="", "", VLOOKUP(E20, 'Primary Responses'!$E$7:G$10, 3, FALSE)) -> 0 | I20: =IFERROR(IF(ISBLANK(INDIRECT("G20")), NA(), INDIRECT("G20")) * IF(ISBLANK(INDIRECT("H20")), NA(), INDIRECT("H20")), "-") -> 0
B21: =IF(ISBLANK(INDIRECT("E21")), IF(NOT(AND(ISBLANK(INDIRECT("$H21")))), "Error: Please provide a value in the '#' column", "-"), IFERROR("Error: Missing value for '" & INDIRECT(ADDRESS(5, (8 + IF(ISBLANK(H21), 1, NA()) - 1))) & "' in cell " & ADDRESS(ROW(), (8 + IF(ISBLANK(H21), 1, NA()) - 1), 4), "Success: All values provided")) -> 0 | C21: N/A | D21: N/A | F21: =IF(E21 ="", "", VLOOKUP(E21, 'Primary Responses'!$E$7:G$10, 2, FALSE)) -> 0 | G21: =IF(E21 ="", "", VLOOKUP(E21, 'Primary Responses'!$E$7:G$10, 3, FALSE)) -> 0 | I21: =IFERROR(IF(ISBLANK(INDIRECT("G21")), NA(), INDIRECT("G21")) * IF(ISBLANK(INDIRECT("H21")), NA(), INDIRECT("H21")), "-") -> 0
B22: =IF(ISBLANK(INDIRECT("E22")), IF(NOT(AND(ISBLANK(INDIRECT("$H22")))), "Error: Please provide a value in the '#' column", "-"), IFERROR("Error: Missing value for '" & INDIRECT(ADDRESS(5, (8 + IF(ISBLANK(H22), 1, NA()) - 1))) & "' in cell " & ADDRESS(ROW(), (8 + IF(ISBLANK(H22), 1, NA()) - 1), 4), "Success: All values provided")) -> 0 | C22: N/A | D22: N/A | F22: =IF(E22 ="", "", VLOOKUP(E22, 'Primary Responses'!$E$7:G$10, 2, FALSE)) -> 0 | G22: =IF(E22 ="", "", VLOOKUP(E22, 'Primary Responses'!$E$7:G$10, 3, FALSE)) -> 0 | I22: =IFERROR(IF(ISBLANK(INDIRECT("G22")), NA(), INDIRECT("G22")) * IF(ISBLANK(INDIRECT("H22")), NA(), INDIRECT("H22")), "-") -> 0
B23: =IF(ISBLANK(INDIRECT("E23")), IF(NOT(AND(ISBLANK(INDIRECT("$H23")))), "Error: Please provide a value in the '#' column", "-"), IFERROR("Error: Missing value for '" & INDIRECT(ADDRESS(5, (8 + IF(ISBLANK(H23), 1, NA()) - 1))) & "' in cell " & ADDRESS(ROW(), (8 + IF(ISBLANK(H23), 1, NA()) - 1), 4), "Success: All values provided")) -> 0 | C23: N/A | D23: N/A | F23: =IF(E23 ="", "", VLOOKUP(E23, 'Primary Responses'!$E$7:G$10, 2, FALSE)) -> 0 | G23: =IF(E23 ="", "", VLOOKUP(E23, 'Primary Responses'!$E$7:G$10, 3, FALSE)) -> 0 | I23: =IFERROR(IF(ISBLANK(INDIRECT("G23")), NA(), INDIRECT("G23")) * IF(ISBLANK(INDIRECT("H23")), NA(), INDIRECT("H23")), "-") -> 0
B24: =IF(ISBLANK(INDIRECT("E24")), IF(NOT(AND(ISBLANK(INDIRECT("$H24")))), "Error: Please provide a value in the '#' column", "-"), IFERROR("Error: Missing value for '" & INDIRECT(ADDRESS(5, (8 + IF(ISBLANK(H24), 1, NA()) - 1))) & "' in cell " & ADDRESS(ROW(), (8 + IF(ISBLANK(H24), 1, NA()) - 1), 4), "Success: All values provided")) -> 0 | C24: N/A | D24: N/A | F24: =IF(E24 ="", "", VLOOKUP(E24, 'Primary Responses'!$E$7:G$10, 2, FALSE)) -> 0 | G24: =IF(E24 ="", "", VLOOKUP(E24, 'Primary Responses'!$E$7:G$10, 3, FALSE)) -> 0 | I24: =IFERROR(IF(ISBLANK(INDIRECT("G24")), NA(), INDIRECT("G24")) * IF(ISBLANK(INDIRECT("H24")), NA(), INDIRECT("H24")), "-") -> 0
B25: =IF(ISBLANK(INDIRECT("E25")), IF(NOT(AND(ISBLANK(INDIRECT("$H25")))), "Error: Please provide a value in the '#' column", "-"), IFERROR("Error: Missing value for '" & INDIRECT(ADDRESS(5, (8 + IF(ISBLANK(H25), 1, NA()) - 1))) & "' in cell " & ADDRESS(ROW(), (8 + IF(ISBLANK(H25), 1, NA()) - 1), 4), "Success: All values provided")) -> 0 | C25: N/A | D25: N/A | F25: =IF(E25 ="", "", VLOOKUP(E25, 'Primary Responses'!$E$7:G$10, 2, FALSE)) -> 0 | G25: =IF(E25 ="", "", VLOOKUP(E25, 'Primary Responses'!$E$7:G$10, 3, FALSE)) -> 0 | I25: =IFERROR(IF(ISBLANK(INDIRECT("G25")), NA(), INDIRECT("G25")) * IF(ISBLANK(INDIRECT("H25")), NA(), INDIRECT("H25")), "-") -> 0
B26: =IF(ISBLANK(INDIRECT("E26")), IF(NOT(AND(ISBLANK(INDIRECT("$H26")))), "Error: Please provide a value in the '#' column", "-"), IFERROR("Error: Missing value for '" & INDIRECT(ADDRESS(5, (8 + IF(ISBLANK(H26), 1, NA()) - 1))) & "' in cell " & ADDRESS(ROW(), (8 + IF(ISBLANK(H26), 1, NA()) - 1), 4), "Success: All values provided")) -> 0 | C26: N/A | D26: N/A | F26: =IF(E26 ="", "", VLOOKUP(E26, 'Primary Responses'!$E$7:G$10, 2, FALSE)) -> 0 | G26: =IF(E26 ="", "", VLOOKUP(E26, 'Primary Responses'!$E$7:G$10, 3, FALSE)) -> 0 | I26: =IFERROR(IF(ISBLANK(INDIRECT("G26")), NA(), INDIRECT("G26")) * IF(ISBLANK(INDIRECT("H26")), NA(), INDIRECT("H26")), "-") -> 0
B27: =IF(ISBLANK(INDIRECT("E27")), IF(NOT(AND(ISBLANK(INDIRECT("$H27")))), "Error: Please provide a value in the '#' column", "-"), IFERROR("Error: Missing value for '" & INDIRECT(ADDRESS(5, (8 + IF(ISBLANK(H27), 1, NA()) - 1))) & "' in cell " & ADDRESS(ROW(), (8 + IF(ISBLANK(H27), 1, NA()) - 1), 4), "Success: All values provided")) -> 0 | C27: N/A | D27: N/A | F27: =IF(E27 ="", "", VLOOKUP(E27, 'Primary Responses'!$E$7:G$10, 2, FALSE)) -> 0 | G27: =IF(E27 ="", "", VLOOKUP(E27, 'Primary Responses'!$E$7:G$10, 3, FALSE)) -> 0 | I27: =IFERROR(IF(ISBLANK(INDIRECT("G27")), NA(), INDIRECT("G27")) * IF(ISBLANK(INDIRECT("H27")), NA(), INDIRECT("H27")), "-") -> 0
B28: =IF(ISBLANK(INDIRECT("E28")), IF(NOT(AND(ISBLANK(INDIRECT("$H28")))), "Error: Please provide a value in the '#' column", "-"), IFERROR("Error: Missing value for '" & INDIRECT(ADDRESS(5, (8 + IF(ISBLANK(H28), 1, NA()) - 1))) & "' in cell " & ADDRESS(ROW(), (8 + IF(ISBLANK(H28), 1, NA()) - 1), 4), "Success: All values provided")) -> 0 | C28: N/A | D28: N/A | F28: =IF(E28 ="", "", VLOOKUP(E28, 'Primary Responses'!$E$7:G$10, 2, FALSE)) -> 0 | G28: =IF(E28 ="", "", VLOOKUP(E28, 'Primary Responses'!$E$7:G$10, 3, FALSE)) -> 0 | I28: =IFERROR(IF(ISBLANK(INDIRECT("G28")), NA(), INDIRECT("G28")) * IF(ISBLANK(INDIRECT("H28")), NA(), INDIRECT("H28")), "-") -> 0
B29: =IF(ISBLANK(INDIRECT("E29")), IF(NOT(AND(ISBLANK(INDIRECT("$H29")))), "Error: Please provide a value in the '#' column", "-"), IFERROR("Error: Missing value for '" & INDIRECT(ADDRESS(5, (8 + IF(ISBLANK(H29), 1, NA()) - 1))) & "' in cell " & ADDRESS(ROW(), (8 + IF(ISBLANK(H29), 1, NA()) - 1), 4), "Success: All values provided")) -> 0 | C29: N/A | D29: N/A | F29: =IF(E29 ="", "", VLOOKUP(E29, 'Primary Responses'!$E$7:G$10, 2, FALSE)) -> 0 | G29: =IF(E29 ="", "", VLOOKUP(E29, 'Primary Responses'!$E$7:G$10, 3, FALSE)) -> 0 | I29: =IFERROR(IF(ISBLANK(INDIRECT("G29")), NA(), INDIRECT("G29")) * IF(ISBLANK(INDIRECT("H29")), NA(), INDIRECT("H29")), "-") -> 0
B30: =IF(ISBLANK(INDIRECT("E30")), IF(NOT(AND(ISBLANK(INDIRECT("$H30")))), "Error: Please provide a value in the '#' column", "-"), IFERROR("Error: Missing value for '" & INDIRECT(ADDRESS(5, (8 + IF(ISBLANK(H30), 1, NA()) - 1))) & "' in cell " & ADDRESS(ROW(), (8 + IF(ISBLANK(H30), 1, NA()) - 1), 4), "Success: All values provided")) -> 0 | C30: N/A | D30: N/A | F30: =IF(E30 ="", "", VLOOKUP(E30, 'Primary Responses'!$E$7:G$10, 2, FALSE)) -> 0 | G30: =IF(E30 ="", "", VLOOKUP(E30, 'Primary Responses'!$E$7:G$10, 3, FALSE)) -> 0 | I30: =IFERROR(IF(ISBLANK(INDIRECT("G30")), NA(), INDIRECT("G30")) * IF(ISBLANK(INDIRECT("H30")), NA(), INDIRECT("H30")), "-") -> 0
B31: =IF(ISBLANK(INDIRECT("E31")), IF(NOT(AND(ISBLANK(INDIRECT("$H31")))), "Error: Please provide a value in the '#' column", "-"), IFERROR("Error: Missing value for '" & INDIRECT(ADDRESS(5, (8 + IF(ISBLANK(H31), 1, NA()) - 1))) & "' in cell " & ADDRESS(ROW(), (8 + IF(ISBLANK(H31), 1, NA()) - 1), 4), "Success: All values provided")) -> 0 | C31: N/A | D31: N/A | F31: =IF(E31 ="", "", VLOOKUP(E31, 'Primary Responses'!$E$7:G$10, 2, FALSE)) -> 0 | G31: =IF(E31 ="", "", VLOOKUP(E31, 'Primary Responses'!$E$7:G$10, 3, FALSE)) -> 0 | I31: =IFERROR(IF(ISBLANK(INDIRECT("G31")), NA(), INDIRECT("G31")) * IF(ISBLANK(INDIRECT("H31")), NA(), INDIRECT("H31")), "-") -> 0
B32: =IF(ISBLANK(INDIRECT("E32")), IF(NOT(AND(ISBLANK(INDIRECT("$H32")))), "Error: Please provide a value in the '#' column", "-"), IFERROR("Error: Missing value for '" & INDIRECT(ADDRESS(5, (8 + IF(ISBLANK(H32), 1, NA()) - 1))) & "' in cell " & ADDRESS(ROW(), (8 + IF(ISBLANK(H32), 1, NA()) - 1), 4), "Success: All values provided")) -> 0 | C32: N/A | D32: N/A | F32: =IF(E32 ="", "", VLOOKUP(E32, 'Primary Responses'!$E$7:G$10, 2, FALSE)) -> 0 | G32: =IF(E32 ="", "", VLOOKUP(E32, 'Primary Responses'!$E$7:G$10, 3, FALSE)) -> 0 | I32: =IFERROR(IF(ISBLANK(INDIRECT("G32")), NA(), INDIRECT("G32")) * IF(ISBLANK(INDIRECT("H32")), NA(), INDIRECT("H32")), "-") -> 0
B33: =IF(ISBLANK(INDIRECT("E33")), IF(NOT(AND(ISBLANK(INDIRECT("$H33")))), "Error: Please provide a value in the '#' column", "-"), IFERROR("Error: Missing value for '" & INDIRECT(ADDRESS(5, (8 + IF(ISBLANK(H33), 1, NA()) - 1))) & "' in cell " & ADDRESS(ROW(), (8 + IF(ISBLANK(H33), 1, NA()) - 1), 4), "Success: All values provided")) -> 0 | C33: N/A | D33: N/A | F33: =IF(E33 ="", "", VLOOKUP(E33, 'Primary Responses'!$E$7:G$10, 2, FALSE)) -> 0 | G33: =IF(E33 ="", "", VLOOKUP(E33, 'Primary Responses'!$E$7:G$10, 3, FALSE)) -> 0 | I33: =IFERROR(IF(ISBLANK(INDIRECT("G33")), NA(), INDIRECT("G33")) * IF(ISBLANK(INDIRECT("H33")), NA(), INDIRECT("H33")), "-") -> 0
B34: =IF(ISBLANK(INDIRECT("E34")), IF(NOT(AND(ISBLANK(INDIRECT("$H34")))), "Error: Please provide a value in the '#' column", "-"), IFERROR("Error: Missing value for '" & INDIRECT(ADDRESS(5, (8 + IF(ISBLANK(H34), 1, NA()) - 1))) & "' in cell " & ADDRESS(ROW(), (8 + IF(ISBLANK(H34), 1, NA()) - 1), 4), "Success: All values provided")) -> 0 | C34: N/A | D34: N/A | F34: =IF(E34 ="", "", VLOOKUP(E34, 'Primary Responses'!$E$7:G$10, 2, FALSE)) -> 0 | G34: =IF(E34 ="", "", VLOOKUP(E34, 'Primary Responses'!$E$7:G$10, 3, FALSE)) -> 0 | I34: =IFERROR(IF(ISBLANK(INDIRECT("G34")), NA(), INDIRECT("G34")) * IF(ISBLANK(INDIRECT("H34")), NA(), INDIRECT("H34")), "-") -> 0
B35: =IF(ISBLANK(INDIRECT("E35")), IF(NOT(AND(ISBLANK(INDIRECT("$H35")))), "Error: Please provide a value in the '#' column", "-"), IFERROR("Error: Missing value for '" & INDIRECT(ADDRESS(5, (8 + IF(ISBLANK(H35), 1, NA()) - 1))) & "' in cell " & ADDRESS(ROW(), (8 + IF(ISBLANK(H35), 1, NA()) - 1), 4), "Success: All values provided")) -> 0 | C35: N/A | D35: N/A | F35: =IF(E35 ="", "", VLOOKUP(E35, 'Primary Responses'!$E$7:G$10, 2, FALSE)) -> 0 | G35: =IF(E35 ="", "", VLOOKUP(E35, 'Primary Responses'!$E$7:G$10, 3, FALSE)) -> 0 | I35: =IFERROR(IF(ISBLANK(INDIRECT("G35")), NA(), INDIRECT("G35")) * IF(ISBLANK(INDIRECT("H35")), NA(), INDIRECT("H35")), "-") -> 0
B36: =IF(ISBLANK(INDIRECT("E36")), IF(NOT(AND(ISBLANK(INDIRECT("$H36")))), "Error: Please provide a value in the '#' column", "-"), IFERROR("Error: Missing value for '" & INDIRECT(ADDRESS(5, (8 + IF(ISBLANK(H36), 1, NA()) - 1))) & "' in cell " & ADDRESS(ROW(), (8 + IF(ISBLANK(H36), 1, NA()) - 1), 4), "Success: All values provided")) -> 0 | C36: N/A | D36: N/A | F36: =IF(E36 ="", "", VLOOKUP(E36, 'Primary Responses'!$E$7:G$10, 2, FALSE)) -> 0 | G36: =IF(E36 ="", "", VLOOKUP(E36, 'Primary Responses'!$E$7:G$10, 3, FALSE)) -> 0 | I36: =IFERROR(IF(ISBLANK(INDIRECT("G36")), NA(), INDIRECT("G36")) * IF(ISBLANK(INDIRECT("H36")), NA(), INDIRECT("H36")), "-") -> 0
B37: =IF(ISBLANK(INDIRECT("E37")), IF(NOT(AND(ISBLANK(INDIRECT("$H37")))), "Error: Please provide a value in the '#' column", "-"), IFERROR("Error: Missing value for '" & INDIRECT(ADDRESS(5, (8 + IF(ISBLANK(H37), 1, NA()) - 1))) & "' in cell " & ADDRESS(ROW(), (8 + IF(ISBLANK(H37), 1, NA()) - 1), 4), "Success: All values provided")) -> 0 | C37: N/A | D37: N/A | F37: =IF(E37 ="", "", VLOOKUP(E37, 'Primary Responses'!$E$7:G$10, 2, FALSE)) -> 0 | G37: =IF(E37 ="", "", VLOOKUP(E37, 'Primary Responses'!$E$7:G$10, 3, FALSE)) -> 0 | I37: =IFERROR(IF(ISBLANK(INDIRECT("G37")), NA(), INDIRECT("G37")) * IF(ISBLANK(INDIRECT("H37")), NA(), INDIRECT("H37")), "-") -> 0
B38: =IF(ISBLANK(INDIRECT("E38")), IF(NOT(AND(ISBLANK(INDIRECT("$H38")))), "Error: Please provide a value in the '#' column", "-"), IFERROR("Error: Missing value for '" & INDIRECT(ADDRESS(5, (8 + IF(ISBLANK(H38), 1, NA()) - 1))) & "' in cell " & ADDRESS(ROW(), (8 + IF(ISBLANK(H38), 1, NA()) - 1), 4), "Success: All values provided")) -> 0 | C38: N/A | D38: N/A | F38: =IF(E38 ="", "", VLOOKUP(E38, 'Primary Responses'!$E$7:G$10, 2, FALSE)) -> 0 | G38: =IF(E38 ="", "", VLOOKUP(E38, 'Primary Responses'!$E$7:G$10, 3, FALSE)) -> 0 | I38: =IFERROR(IF(ISBLANK(INDIRECT("G38")), NA(), INDIRECT("G38")) * IF(ISBLANK(INDIRECT("H38")), NA(), INDIRECT("H38")), "-") -> 0
B39: =IF(ISBLANK(INDIRECT("E39")), IF(NOT(AND(ISBLANK(INDIRECT("$H39")))), "Error: Please provide a value in the '#' column", "-"), IFERROR("Error: Missing value for '" & INDIRECT(ADDRESS(5, (8 + IF(ISBLANK(H39), 1, NA()) - 1))) & "' in cell " & ADDRESS(ROW(), (8 + IF(ISBLANK(H39), 1, NA()) - 1), 4), "Success: All values provided")) -> 0 | C39: N/A | D39: N/A | F39: =IF(E39 ="", "", VLOOKUP(E39, 'Primary Responses'!$E$7:G$10, 2, FALSE)) -> 0 | G39: =IF(E39 ="", "", VLOOKUP(E39, 'Primary Responses'!$E$7:G$10, 3, FALSE)) -> 0 | I39: =IFERROR(IF(ISBLANK(INDIRECT("G39")), NA(), INDIRECT("G39")) * IF(ISBLANK(INDIRECT("H39")), NA(), INDIRECT("H39")), "-") -> 0
B40: =IF(ISBLANK(INDIRECT("E40")), IF(NOT(AND(ISBLANK(INDIRECT("$H40")))), "Error: Please provide a value in the '#' column", "-"), IFERROR("Error: Missing value for '" & INDIRECT(ADDRESS(5, (8 + IF(ISBLANK(H40), 1, NA()) - 1))) & "' in cell " & ADDRESS(ROW(), (8 + IF(ISBLANK(H40), 1, NA()) - 1), 4), "Success: All values provided")) -> 0 | C40: N/A | D40: N/A | F40: =IF(E40 ="", "", VLOOKUP(E40, 'Primary Responses'!$E$7:G$10, 2, FALSE)) -> 0 | G40: =IF(E40 ="", "", VLOOKUP(E40, 'Primary Responses'!$E$7:G$10, 3, FALSE)) -> 0 | I40: =IFERROR(IF(ISBLANK(INDIRECT("G40")), NA(), INDIRECT("G40")) * IF(ISBLANK(INDIRECT("H40")), NA(), INDIRECT("H40")), "-") -> 0
B41: =IF(ISBLANK(INDIRECT("E41")), IF(NOT(AND(ISBLANK(INDIRECT("$H41")))), "Error: Please provide a value in the '#' column", "-"), IFERROR("Error: Missing value for '" & INDIRECT(ADDRESS(5, (8 + IF(ISBLANK(H41), 1, NA()) - 1))) & "' in cell " & ADDRESS(ROW(), (8 + IF(ISBLANK(H41), 1, NA()) - 1), 4), "Success: All values provided")) -> 0 | C41: N/A | D41: N/A | F41: =IF(E41 ="", "", VLOOKUP(E41, 'Primary Responses'!$E$7:G$10, 2, FALSE)) -> 0 | G41: =IF(E41 ="", "", VLOOKUP(E41, 'Primary Responses'!$E$7:G$10, 3, FALSE)) -> 0 | I41: =IFERROR(IF(ISBLANK(INDIRECT("G41")), NA(), INDIRECT("G41")) * IF(ISBLANK(INDIRECT("H41")), NA(), INDIRECT("H41")), "-") -> 0
B42: =IF(ISBLANK(INDIRECT("E42")), IF(NOT(AND(ISBLANK(INDIRECT("$H42")))), "Error: Please provide a value in the '#' column", "-"), IFERROR("Error: Missing value for '" & INDIRECT(ADDRESS(5, (8 + IF(ISBLANK(H42), 1, NA()) - 1))) & "' in cell " & ADDRESS(ROW(), (8 + IF(ISBLANK(H42), 1, NA()) - 1), 4), "Success: All values provided")) -> 0 | C42: N/A | D42: N/A | F42: =IF(E42 ="", "", VLOOKUP(E42, 'Primary Responses'!$E$7:G$10, 2, FALSE)) -> 0 | G42: =IF(E42 ="", "", VLOOKUP(E42, 'Primary Responses'!$E$7:G$10, 3, FALSE)) -> 0 | I42: =IFERROR(IF(ISBLANK(INDIRECT("G42")), NA(), INDIRECT("G42")) * IF(ISBLANK(INDIRECT("H42")), NA(), INDIRECT("H42")), "-") -> 0
B43: =IF(ISBLANK(INDIRECT("E43")), IF(NOT(AND(ISBLANK(INDIRECT("$H43")))), "Error: Please provide a value in the '#' column", "-"), IFERROR("Error: Missing value for '" & INDIRECT(ADDRESS(5, (8 + IF(ISBLANK(H43), 1, NA()) - 1))) & "' in cell " & ADDRESS(ROW(), (8 + IF(ISBLANK(H43), 1, NA()) - 1), 4), "Success: All values provided")) -> 0 | C43: N/A | D43: N/A | F43: =IF(E43 ="", "", VLOOKUP(E43, 'Primary Responses'!$E$7:G$10, 2, FALSE)) -> 0 | G43: =IF(E43 ="", "", VLOOKUP(E43, 'Primary Responses'!$E$7:G$10, 3, FALSE)) -> 0 | I43: =IFERROR(IF(ISBLANK(INDIRECT("G43")), NA(), INDIRECT("G43")) * IF(ISBLANK(INDIRECT("H43")), NA(), INDIRECT("H43")), "-") -> 0
B44: =IF(ISBLANK(INDIRECT("E44")), IF(NOT(AND(ISBLANK(INDIRECT("$H44")))), "Error: Please provide a value in the '#' column", "-"), IFERROR("Error: Missing value for '" & INDIRECT(ADDRESS(5, (8 + IF(ISBLANK(H44), 1, NA()) - 1))) & "' in cell " & ADDRESS(ROW(), (8 + IF(ISBLANK(H44), 1, NA()) - 1), 4), "Success: All values provided")) -> 0 | C44: N/A | D44: N/A | F44: =IF(E44 ="", "", VLOOKUP(E44, 'Primary Responses'!$E$7:G$10, 2, FALSE)) -> 0 | G44: =IF(E44 ="", "", VLOOKUP(E44, 'Primary Responses'!$E$7:G$10, 3, FALSE)) -> 0 | I44: =IFERROR(IF(ISBLANK(INDIRECT("G44")), NA(), INDIRECT("G44")) * IF(ISBLANK(INDIRECT("H44")), NA(), INDIRECT("H44")), "-") -> 0
B45: =IF(ISBLANK(INDIRECT("E45")), IF(NOT(AND(ISBLANK(INDIRECT("$H45")))), "Error: Please provide a value in the '#' column", "-"), IFERROR("Error: Missing value for '" & INDIRECT(ADDRESS(5, (8 + IF(ISBLANK(H45), 1, NA()) - 1))) & "' in cell " & ADDRESS(ROW(), (8 + IF(ISBLANK(H45), 1, NA()) - 1), 4), "Success: All values provided")) -> 0 | C45: N/A | D45: N/A | F45: =IF(E45 ="", "", VLOOKUP(E45, 'Primary Responses'!$E$7:G$10, 2, FALSE)) -> 0 | G45: =IF(E45 ="", "", VLOOKUP(E45, 'Primary Responses'!$E$7:G$10, 3, FALSE)) -> 0 | I45: =IFERROR(IF(ISBLANK(INDIRECT("G45")), NA(), INDIRECT("G45")) * IF(ISBLANK(INDIRECT("H45")), NA(), INDIRECT("H45")), "-") -> 0
B46: =IF(ISBLANK(INDIRECT("E46")), IF(NOT(AND(ISBLANK(INDIRECT("$H46")))), "Error: Please provide a value in the '#' column", "-"), IFERROR("Error: Missing value for '" & INDIRECT(ADDRESS(5, (8 + IF(ISBLANK(H46), 1, NA()) - 1))) & "' in cell " & ADDRESS(ROW(), (8 + IF(ISBLANK(H46), 1, NA()) - 1), 4), "Success: All values provided")) -> 0 | C46: N/A | D46: N/A | F46: =IF(E46 ="", "", VLOOKUP(E46, 'Primary Responses'!$E$7:G$10, 2, FALSE)) -> 0 | G46: =IF(E46 ="", "", VLOOKUP(E46, 'Primary Responses'!$E$7:G$10, 3, FALSE)) -> 0 | I46: =IFERROR(IF(ISBLANK(INDIRECT("G46")), NA(), INDIRECT("G46")) * IF(ISBLANK(INDIRECT("H46")), NA(), INDIRECT("H46")), "-") -> 0
B47: =IF(ISBLANK(INDIRECT("E47")), IF(NOT(AND(ISBLANK(INDIRECT("$H47")))), "Error: Please provide a value in the '#' column", "-"), IFERROR("Error: Missing value for '" & INDIRECT(ADDRESS(5, (8 + IF(ISBLANK(H47), 1, NA()) - 1))) & "' in cell " & ADDRESS(ROW(), (8 + IF(ISBLANK(H47), 1, NA()) - 1), 4), "Success: All values provided")) -> 0 | C47: N/A | D47: N/A | F47: =IF(E47 ="", "", VLOOKUP(E47, 'Primary Responses'!$E$7:G$10, 2, FALSE)) -> 0 | G47: =IF(E47 ="", "", VLOOKUP(E47, 'Primary Responses'!$E$7:G$10, 3, FALSE)) -> 0 | I47: =IFERROR(IF(ISBLANK(INDIRECT("G47")), NA(), INDIRECT("G47")) * IF(ISBLANK(INDIRECT("H47")), NA(), INDIRECT("H47")), "-") -> 0
B48: =IF(ISBLANK(INDIRECT("E48")), IF(NOT(AND(ISBLANK(INDIRECT("$H48")))), "Error: Please provide a value in the '#' column", "-"), IFERROR("Error: Missing value for '" & INDIRECT(ADDRESS(5, (8 + IF(ISBLANK(H48), 1, NA()) - 1))) & "' in cell " & ADDRESS(ROW(), (8 + IF(ISBLANK(H48), 1, NA()) - 1), 4), "Success: All values provided")) -> 0 | C48: N/A | D48: N/A | F48: =IF(E48 ="", "", VLOOKUP(E48, 'Primary Responses'!$E$7:G$10, 2, FALSE)) -> 0 | G48: =IF(E48 ="", "", VLOOKUP(E48, 'Primary Responses'!$E$7:G$10, 3, FALSE)) -> 0 | I48: =IFERROR(IF(ISBLANK(INDIRECT("G48")), NA(), INDIRECT("G48")) * IF(ISBLANK(INDIRECT("H48")), NA(), INDIRECT("H48")), "-") -> 0
B49: =IF(ISBLANK(INDIRECT("E49")), IF(NOT(AND(ISBLANK(INDIRECT("$H49")))), "Error: Please provide a value in the '#' column", "-"), IFERROR("Error: Missing value for '" & INDIRECT(ADDRESS(5, (8 + IF(ISBLANK(H49), 1, NA()) - 1))) & "' in cell " & ADDRESS(ROW(), (8 + IF(ISBLANK(H49), 1, NA()) - 1), 4), "Success: All values provided")) -> 0 | C49: N/A | D49: N/A | F49: =IF(E49 ="", "", VLOOKUP(E49, 'Primary Responses'!$E$7:G$10, 2, FALSE)) -> 0 | G49: =IF(E49 ="", "", VLOOKUP(E49, 'Primary Responses'!$E$7:G$10, 3, FALSE)) -> 0 | I49: =IFERROR(IF(ISBLANK(INDIRECT("G49")), NA(), INDIRECT("G49")) * IF(ISBLANK(INDIRECT("H49")), NA(), INDIRECT("H49")), "-") -> 0
B50: =IF(ISBLANK(INDIRECT("E50")), IF(NOT(AND(ISBLANK(INDIRECT("$H50")))), "Error: Please provide a value in the '#' column", "-"), IFERROR("Error: Missing value for '" & INDIRECT(ADDRESS(5, (8 + IF(ISBLANK(H50), 1, NA()) - 1))) & "' in cell " & ADDRESS(ROW(), (8 + IF(ISBLANK(H50), 1, NA()) - 1), 4), "Success: All values provided")) -> 0 | C50: N/A | D50: N/A | F50: =IF(E50 ="", "", VLOOKUP(E50, 'Primary Responses'!$E$7:G$10, 2, FALSE)) -> 0 | G50: =IF(E50 ="", "", VLOOKUP(E50, 'Primary Responses'!$E$7:G$10, 3, FALSE)) -> 0 | I50: =IFERROR(IF(ISBLANK(INDIRECT("G50")), NA(), INDIRECT("G50")) * IF(ISBLANK(INDIRECT("H50")), NA(), INDIRECT("H50")), "-") -> 0
B51: =IF(ISBLANK(INDIRECT("E51")), IF(NOT(AND(ISBLANK(INDIRECT("$H51")))), "Error: Please provide a value in the '#' column", "-"), IFERROR("Error: Missing value for '" & INDIRECT(ADDRESS(5, (8 + IF(ISBLANK(H51), 1, NA()) - 1))) & "' in cell " & ADDRESS(ROW(), (8 + IF(ISBLANK(H51), 1, NA()) - 1), 4), "Success: All values provided")) -> 0 | C51: N/A | D51: N/A | F51: =IF(E51 ="", "", VLOOKUP(E51, 'Primary Responses'!$E$7:G$10, 2, FALSE)) -> 0 | G51: =IF(E51 ="", "", VLOOKUP(E51, 'Primary Responses'!$E$7:G$10, 3, FALSE)) -> 0 | I51: =IFERROR(IF(ISBLANK(INDIRECT("G51")), NA(), INDIRECT("G51")) * IF(ISBLANK(INDIRECT("H51")), NA(), INDIRECT("H51")), "-") -> 0
B52: =IF(ISBLANK(INDIRECT("E52")), IF(NOT(AND(ISBLANK(INDIRECT("$H52")))), "Error: Please provide a value in the '#' column", "-"), IFERROR("Error: Missing value for '" & INDIRECT(ADDRESS(5, (8 + IF(ISBLANK(H52), 1, NA()) - 1))) & "' in cell " & ADDRESS(ROW(), (8 + IF(ISBLANK(H52), 1, NA()) - 1), 4), "Success: All values provided")) -> 0 | C52: N/A | D52: N/A | F52: =IF(E52 ="", "", VLOOKUP(E52, 'Primary Responses'!$E$7:G$10, 2, FALSE)) -> 0 | G52: =IF(E52 ="", "", VLOOKUP(E52, 'Primary Responses'!$E$7:G$10, 3, FALSE)) -> 0 | I52: =IFERROR(IF(ISBLANK(INDIRECT("G52")), NA(), INDIRECT("G52")) * IF(ISBLANK(INDIRECT("H52")), NA(), INDIRECT("H52")), "-") -> 0
B53: =IF(ISBLANK(INDIRECT("E53")), IF(NOT(AND(ISBLANK(INDIRECT("$H53")))), "Error: Please provide a value in the '#' column", "-"), IFERROR("Error: Missing value for '" & INDIRECT(ADDRESS(5, (8 + IF(ISBLANK(H53), 1, NA()) - 1))) & "' in cell " & ADDRESS(ROW(), (8 + IF(ISBLANK(H53), 1, NA()) - 1), 4), "Success: All values provided")) -> 0 | C53: N/A | D53: N/A | F53: =IF(E53 ="", "", VLOOKUP(E53, 'Primary Responses'!$E$7:G$10, 2, FALSE)) -> 0 | G53: =IF(E53 ="", "", VLOOKUP(E53, 'Primary Responses'!$E$7:G$10, 3, FALSE)) -> 0 | I53: =IFERROR(IF(ISBLANK(INDIRECT("G53")), NA(), INDIRECT("G53")) * IF(ISBLANK(INDIRECT("H53")), NA(), INDIRECT("H53")), "-") -> 0
B54: =IF(ISBLANK(INDIRECT("E54")), IF(NOT(AND(ISBLANK(INDIRECT("$H54")))), "Error: Please provide a value in the '#' column", "-"), IFERROR("Error: Missing value for '" & INDIRECT(ADDRESS(5, (8 + IF(ISBLANK(H54), 1, NA()) - 1))) & "' in cell " & ADDRESS(ROW(), (8 + IF(ISBLANK(H54), 1, NA()) - 1), 4), "Success: All values provided")) -> 0 | C54: N/A | D54: N/A | F54: =IF(E54 ="", "", VLOOKUP(E54, 'Primary Responses'!$E$7:G$10, 2, FALSE)) -> 0 | G54: =IF(E54 ="", "", VLOOKUP(E54, 'Primary Responses'!$E$7:G$10, 3, FALSE)) -> 0 | I54: =IFERROR(IF(ISBLANK(INDIRECT("G54")), NA(), INDIRECT("G54")) * IF(ISBLANK(INDIRECT("H54")), NA(), INDIRECT("H54")), "-") -> 0
B55: =IF(ISBLANK(INDIRECT("E55")), IF(NOT(AND(ISBLANK(INDIRECT("$H55")))), "Error: Please provide a value in the '#' column", "-"), IFERROR("Error: Missing value for '" & INDIRECT(ADDRESS(5, (8 + IF(ISBLANK(H55), 1, NA()) - 1))) & "' in cell " & ADDRESS(ROW(), (8 + IF(ISBLANK(H55), 1, NA()) - 1), 4), "Success: All values provided")) -> 0 | C55: N/A | D55: N/A | F55: =IF(E55 ="", "", VLOOKUP(E55, 'Primary Responses'!$E$7:G$10, 2, FALSE)) -> 0 | G55: =IF(E55 ="", "", VLOOKUP(E55, 'Primary Responses'!$E$7:G$10, 3, FALSE)) -> 0 | I55: =IFERROR(IF(ISBLANK(INDIRECT("G55")), NA(), INDIRECT("G55")) * IF(ISBLANK(INDIRECT("H55")), NA(), INDIRECT("H55")), "-") -> 0
B56: =IF(ISBLANK(INDIRECT("E56")), IF(NOT(AND(ISBLANK(INDIRECT("$H56")))), "Error: Please provide a value in the '#' column", "-"), IFERROR("Error: Missing value for '" & INDIRECT(ADDRESS(5, (8 + IF(ISBLANK(H56), 1, NA()) - 1))) & "' in cell " & ADDRESS(ROW(), (8 + IF(ISBLANK(H56), 1, NA()) - 1), 4), "Success: All values provided")) -> 0 | C56: N/A | D56: N/A | F56: =IF(E56 ="", "", VLOOKUP(E56, 'Primary Responses'!$E$7:G$10, 2, FALSE)) -> 0 | G56: =IF(E56 ="", "", VLOOKUP(E56, 'Primary Responses'!$E$7:G$10, 3, FALSE)) -> 0 | I56: =IFERROR(IF(ISBLANK(INDIRECT("G56")), NA(), INDIRECT("G56")) * IF(ISBLANK(INDIRECT("H56")), NA(), INDIRECT("H56")), "-") -> 0
B57: =IF(ISBLANK(INDIRECT("E57")), IF(NOT(AND(ISBLANK(INDIRECT("$H57")))), "Error: Please provide a value in the '#' column", "-"), IFERROR("Error: Missing value for '" & INDIRECT(ADDRESS(5, (8 + IF(ISBLANK(H57), 1, NA()) - 1))) & "' in cell " & ADDRESS(ROW(), (8 + IF(ISBLANK(H57), 1, NA()) - 1), 4), "Success: All values provided")) -> 0 | C57: N/A | D57: N/A | F57: =IF(E57 ="", "", VLOOKUP(E57, 'Primary Responses'!$E$7:G$10, 2, FALSE)) -> 0 | G57: =IF(E57 ="", "", VLOOKUP(E57, 'Primary Responses'!$E$7:G$10, 3, FALSE)) -> 0 | I57: =IFERROR(IF(ISBLANK(INDIRECT("G57")), NA(), INDIRECT("G57")) * IF(ISBLANK(INDIRECT("H57")), NA(), INDIRECT("H57")), "-") -> 0
B58: =IF(ISBLANK(INDIRECT("E58")), IF(NOT(AND(ISBLANK(INDIRECT("$H58")))), "Error: Please provide a value in the '#' column", "-"), IFERROR("Error: Missing value for '" & INDIRECT(ADDRESS(5, (8 + IF(ISBLANK(H58), 1, NA()) - 1))) & "' in cell " & ADDRESS(ROW(), (8 + IF(ISBLANK(H58), 1, NA()) - 1), 4), "Success: All values provided")) -> 0 | C58: N/A | D58: N/A | F58: =IF(E58 ="", "", VLOOKUP(E58, 'Primary Responses'!$E$7:G$10, 2, FALSE)) -> 0 | G58: =IF(E58 ="", "", VLOOKUP(E58, 'Primary Responses'!$E$7:G$10, 3, FALSE)) -> 0 | I58: =IFERROR(IF(ISBLANK(INDIRECT("G58")), NA(), INDIRECT("G58")) * IF(ISBLANK(INDIRECT("H58")), NA(), INDIRECT("H58")), "-") -> 0
B59: =IF(ISBLANK(INDIRECT("E59")), IF(NOT(AND(ISBLANK(INDIRECT("$H59")))), "Error: Please provide a value in the '#' column", "-"), IFERROR("Error: Missing value for '" & INDIRECT(ADDRESS(5, (8 + IF(ISBLANK(H59), 1, NA()) - 1))) & "' in cell " & ADDRESS(ROW(), (8 + IF(ISBLANK(H59), 1, NA()) - 1), 4), "Success: All values provided")) -> 0 | C59: N/A | D59: N/A | F59: =IF(E59 ="", "", VLOOKUP(E59, 'Primary Responses'!$E$7:G$10, 2, FALSE)) -> 0 | G59: =IF(E59 ="", "", VLOOKUP(E59, 'Primary Responses'!$E$7:G$10, 3, FALSE)) -> 0 | I59: =IFERROR(IF(ISBLANK(INDIRECT("G59")), NA(), INDIRECT("G59")) * IF(ISBLANK(INDIRECT("H59")), NA(), INDIRECT("H59")), "-") -> 0
B60: =IF(ISBLANK(INDIRECT("E60")), IF(NOT(AND(ISBLANK(INDIRECT("$H60")))), "Error: Please provide a value in the '#' column", "-"), IFERROR("Error: Missing value for '" & INDIRECT(ADDRESS(5, (8 + IF(ISBLANK(H60), 1, NA()) - 1))) & "' in cell " & ADDRESS(ROW(), (8 + IF(ISBLANK(H60), 1, NA()) - 1), 4), "Success: All values provided")) -> 0 | C60: N/A | D60: N/A | F60: =IF(E60 ="", "", VLOOKUP(E60, 'Primary Responses'!$E$7:G$10, 2, FALSE)) -> 0 | G60: =IF(E60 ="", "", VLOOKUP(E60, 'Primary Responses'!$E$7:G$10, 3, FALSE)) -> 0 | I60: =IFERROR(IF(ISBLANK(INDIRECT("G60")), NA(), INDIRECT("G60")) * IF(ISBLANK(INDIRECT("H60")), NA(), INDIRECT("H60")), "-") -> 0
B61: =IF(ISBLANK(INDIRECT("E61")), IF(NOT(AND(ISBLANK(INDIRECT("$H61")))), "Error: Please provide a value in the '#' column", "-"), IFERROR("Error: Missing value for '" & INDIRECT(ADDRESS(5, (8 + IF(ISBLANK(H61), 1, NA()) - 1))) & "' in cell " & ADDRESS(ROW(), (8 + IF(ISBLANK(H61), 1, NA()) - 1), 4), "Success: All values provided")) -> 0 | C61: N/A | D61: N/A | F61: =IF(E61 ="", "", VLOOKUP(E61, 'Primary Responses'!$E$7:G$10, 2, FALSE)) -> 0 | G61: =IF(E61 ="", "", VLOOKUP(E61, 'Primary Responses'!$E$7:G$10, 3, FALSE)) -> 0 | I61: =IFERROR(IF(ISBLANK(INDIRECT("G61")), NA(), INDIRECT("G61")) * IF(ISBLANK(INDIRECT("H61")), NA(), INDIRECT("H61")), "-") -> 0
B62: =IF(ISBLANK(INDIRECT("E62")), IF(NOT(AND(ISBLANK(INDIRECT("$H62")))), "Error: Please provide a value in the '#' column", "-"), IFERROR("Error: Missing value for '" & INDIRECT(ADDRESS(5, (8 + IF(ISBLANK(H62), 1, NA()) - 1))) & "' in cell " & ADDRESS(ROW(), (8 + IF(ISBLANK(H62), 1, NA()) - 1), 4), "Success: All values provided")) -> 0 | C62: N/A | D62: N/A | F62: =IF(E62 ="", "", VLOOKUP(E62, 'Primary Responses'!$E$7:G$10, 2, FALSE)) -> 0 | G62: =IF(E62 ="", "", VLOOKUP(E62, 'Primary Responses'!$E$7:G$10, 3, FALSE)) -> 0 | I62: =IFERROR(IF(ISBLANK(INDIRECT("G62")), NA(), INDIRECT("G62")) * IF(ISBLANK(INDIRECT("H62")), NA(), INDIRECT("H62")), "-") -> 0
B63: =IF(ISBLANK(INDIRECT("E63")), IF(NOT(AND(ISBLANK(INDIRECT("$H63")))), "Error: Please provide a value in the '#' column", "-"), IFERROR("Error: Missing value for '" & INDIRECT(ADDRESS(5, (8 + IF(ISBLANK(H63), 1, NA()) - 1))) & "' in cell " & ADDRESS(ROW(), (8 + IF(ISBLANK(H63), 1, NA()) - 1), 4), "Success: All values provided")) -> 0 | C63: N/A | D63: N/A | F63: =IF(E63 ="", "", VLOOKUP(E63, 'Primary Responses'!$E$7:G$10, 2, FALSE)) -> 0 | G63: =IF(E63 ="", "", VLOOKUP(E63, 'Primary Responses'!$E$7:G$10, 3, FALSE)) -> 0 | I63: =IFERROR(IF(ISBLANK(INDIRECT("G63")), NA(), INDIRECT("G63")) * IF(ISBLANK(INDIRECT("H63")), NA(), INDIRECT("H63")), "-") -> 0
B64: =IF(ISBLANK(INDIRECT("E64")), IF(NOT(AND(ISBLANK(INDIRECT("$H64")))), "Error: Please provide a value in the '#' column", "-"), IFERROR("Error: Missing value for '" & INDIRECT(ADDRESS(5, (8 + IF(ISBLANK(H64), 1, NA()) - 1))) & "' in cell " & ADDRESS(ROW(), (8 + IF(ISBLANK(H64), 1, NA()) - 1), 4), "Success: All values provided")) -> 0 | C64: N/A | D64: N/A | F64: =IF(E64 ="", "", VLOOKUP(E64, 'Primary Responses'!$E$7:G$10, 2, FALSE)) -> 0 | G64: =IF(E64 ="", "", VLOOKUP(E64, 'Primary Responses'!$E$7:G$10, 3, FALSE)) -> 0 | I64: =IFERROR(IF(ISBLANK(INDIRECT("G64")), NA(), INDIRECT("G64")) * IF(ISBLANK(INDIRECT("H64")), NA(), INDIRECT("H64")), "-") -> 0
B65: =IF(ISBLANK(INDIRECT("E65")), IF(NOT(AND(ISBLANK(INDIRECT("$H65")))), "Error: Please provide a value in the '#' column", "-"), IFERROR("Error: Missing value for '" & INDIRECT(ADDRESS(5, (8 + IF(ISBLANK(H65), 1, NA()) - 1))) & "' in cell " & ADDRESS(ROW(), (8 + IF(ISBLANK(H65), 1, NA()) - 1), 4), "Success: All values provided")) -> 0 | C65: N/A | D65: N/A | F65: =IF(E65 ="", "", VLOOKUP(E65, 'Primary Responses'!$E$7:G$10, 2, FALSE)) -> 0 | G65: =IF(E65 ="", "", VLOOKUP(E65, 'Primary Responses'!$E$7:G$10, 3, FALSE)) -> 0 | I65: =IFERROR(IF(ISBLANK(INDIRECT("G65")), NA(), INDIRECT("G65")) * IF(ISBLANK(INDIRECT("H65")), NA(), INDIRECT("H65")), "-") -> 0
B66: =IF(ISBLANK(INDIRECT("E66")), IF(NOT(AND(ISBLANK(INDIRECT("$H66")))), "Error: Please provide a value in the '#' column", "-"), IFERROR("Error: Missing value for '" & INDIRECT(ADDRESS(5, (8 + IF(ISBLANK(H66), 1, NA()) - 1))) & "' in cell " & ADDRESS(ROW(), (8 + IF(ISBLANK(H66), 1, NA()) - 1), 4), "Success: All values provided")) -> 0 | C66: N/A | D66: N/A | F66: =IF(E66 ="", "", VLOOKUP(E66, 'Primary Responses'!$E$7:G$10, 2, FALSE)) -> 0 | G66: =IF(E66 ="", "", VLOOKUP(E66, 'Primary Responses'!$E$7:G$10, 3, FALSE)) -> 0 | I66: =IFERROR(IF(ISBLANK(INDIRECT("G66")), NA(), INDIRECT("G66")) * IF(ISBLANK(INDIRECT("H66")), NA(), INDIRECT("H66")), "-") -> 0
B67: =IF(ISBLANK(INDIRECT("E67")), IF(NOT(AND(ISBLANK(INDIRECT("$H67")))), "Error: Please provide a value in the '#' column", "-"), IFERROR("Error: Missing value for '" & INDIRECT(ADDRESS(5, (8 + IF(ISBLANK(H67), 1, NA()) - 1))) & "' in cell " & ADDRESS(ROW(), (8 + IF(ISBLANK(H67), 1, NA()) - 1), 4), "Success: All values provided")) -> 0 | C67: N/A | D67: N/A | F67: =IF(E67 ="", "", VLOOKUP(E67, 'Primary Responses'!$E$7:G$10, 2, FALSE)) -> 0 | G67: =IF(E67 ="", "", VLOOKUP(E67, 'Primary Responses'!$E$7:G$10, 3, FALSE)) -> 0 | I67: =IFERROR(IF(ISBLANK(INDIRECT("G67")), NA(), INDIRECT("G67")) * IF(ISBLANK(INDIRECT("H67")), NA(), INDIRECT("H67")), "-") -> 0
B68: =IF(ISBLANK(INDIRECT("E68")), IF(NOT(AND(ISBLANK(INDIRECT("$H68")))), "Error: Please provide a value in the '#' column", "-"), IFERROR("Error: Missing value for '" & INDIRECT(ADDRESS(5, (8 + IF(ISBLANK(H68), 1, NA()) - 1))) & "' in cell " & ADDRESS(ROW(), (8 + IF(ISBLANK(H68), 1, NA()) - 1), 4), "Success: All values provided")) -> 0 | C68: N/A | D68: N/A | F68: =IF(E68 ="", "", VLOOKUP(E68, 'Primary Responses'!$E$7:G$10, 2, FALSE)) -> 0 | G68: =IF(E68 ="", "", VLOOKUP(E68, 'Primary Responses'!$E$7:G$10, 3, FALSE)) -> 0 | I68: =IFERROR(IF(ISBLANK(INDIRECT("G68")), NA(), INDIRECT("G68")) * IF(ISBLANK(INDIRECT("H68")), NA(), INDIRECT("H68")), "-") -> 0
B69: =IF(ISBLANK(INDIRECT("E69")), IF(NOT(AND(ISBLANK(INDIRECT("$H69")))), "Error: Please provide a value in the '#' column", "-"), IFERROR("Error: Missing value for '" & INDIRECT(ADDRESS(5, (8 + IF(ISBLANK(H69), 1, NA()) - 1))) & "' in cell " & ADDRESS(ROW(), (8 + IF(ISBLANK(H69), 1, NA()) - 1), 4), "Success: All values provided")) -> 0 | C69: N/A | D69: N/A | F69: =IF(E69 ="", "", VLOOKUP(E69, 'Primary Responses'!$E$7:G$10, 2, FALSE)) -> 0 | G69: =IF(E69 ="", "", VLOOKUP(E69, 'Primary Responses'!$E$7:G$10, 3, FALSE)) -> 0 | I69: =IFERROR(IF(ISBLANK(INDIRECT("G69")), NA(), INDIRECT("G69")) * IF(ISBLANK(INDIRECT("H69")), NA(), INDIRECT("H69")), "-") -> 0
B70: =IF(ISBLANK(INDIRECT("E70")), IF(NOT(AND(ISBLANK(INDIRECT("$H70")))), "Error: Please provide a value in the '#' column", "-"), IFERROR("Error: Missing value for '" & INDIRECT(ADDRESS(5, (8 + IF(ISBLANK(H70), 1, NA()) - 1))) & "' in cell " & ADDRESS(ROW(), (8 + IF(ISBLANK(H70), 1, NA()) - 1), 4), "Success: All values provided")) -> 0 | C70: N/A | D70: N/A | F70: =IF(E70 ="", "", VLOOKUP(E70, 'Primary Responses'!$E$7:G$10, 2, FALSE)) -> 0 | G70: =IF(E70 ="", "", VLOOKUP(E70, 'Primary Responses'!$E$7:G$10, 3, FALSE)) -> 0 | I70: =IFERROR(IF(ISBLANK(INDIRECT("G70")), NA(), INDIRECT("G70")) * IF(ISBLANK(INDIRECT("H70")), NA(), INDIRECT("H70")), "-") -> 0
B71: =IF(ISBLANK(INDIRECT("E71")), IF(NOT(AND(ISBLANK(INDIRECT("$H71")))), "Error: Please provide a value in the '#' column", "-"), IFERROR("Error: Missing value for '" & INDIRECT(ADDRESS(5, (8 + IF(ISBLANK(H71), 1, NA()) - 1))) & "' in cell " & ADDRESS(ROW(), (8 + IF(ISBLANK(H71), 1, NA()) - 1), 4), "Success: All values provided")) -> 0 | C71: N/A | D71: N/A | F71: =IF(E71 ="", "", VLOOKUP(E71, 'Primary Responses'!$E$7:G$10, 2, FALSE)) -> 0 | G71: =IF(E71 ="", "", VLOOKUP(E71, 'Primary Responses'!$E$7:G$10, 3, FALSE)) -> 0 | I71: =IFERROR(IF(ISBLANK(INDIRECT("G71")), NA(), INDIRECT("G71")) * IF(ISBLANK(INDIRECT("H71")), NA(), INDIRECT("H71")), "-") -> 0
B72: =IF(ISBLANK(INDIRECT("E72")), IF(NOT(AND(ISBLANK(INDIRECT("$H72")))), "Error: Please provide a value in the '#' column", "-"), IFERROR("Error: Missing value for '" & INDIRECT(ADDRESS(5, (8 + IF(ISBLANK(H72), 1, NA()) - 1))) & "' in cell " & ADDRESS(ROW(), (8 + IF(ISBLANK(H72), 1, NA()) - 1), 4), "Success: All values provided")) -> 0 | C72: N/A | D72: N/A | F72: =IF(E72 ="", "", VLOOKUP(E72, 'Primary Responses'!$E$7:G$10, 2, FALSE)) -> 0 | G72: =IF(E72 ="", "", VLOOKUP(E72, 'Primary Responses'!$E$7:G$10, 3, FALSE)) -> 0 | I72: =IFERROR(IF(ISBLANK(INDIRECT("G72")), NA(), INDIRECT("G72")) * IF(ISBLANK(INDIRECT("H72")), NA(), INDIRECT("H72")), "-") -> 0
B73: =IF(ISBLANK(INDIRECT("E73")), IF(NOT(AND(ISBLANK(INDIRECT("$H73")))), "Error: Please provide a value in the '#' column", "-"), IFERROR("Error: Missing value for '" & INDIRECT(ADDRESS(5, (8 + IF(ISBLANK(H73), 1, NA()) - 1))) & "' in cell " & ADDRESS(ROW(), (8 + IF(ISBLANK(H73), 1, NA()) - 1), 4), "Success: All values provided")) -> 0 | C73: N/A | D73: N/A | F73: =IF(E73 ="", "", VLOOKUP(E73, 'Primary Responses'!$E$7:G$10, 2, FALSE)) -> 0 | G73: =IF(E73 ="", "", VLOOKUP(E73, 'Primary Responses'!$E$7:G$10, 3, FALSE)) -> 0 | I73: =IFERROR(IF(ISBLANK(INDIRECT("G73")), NA(), INDIRECT("G73")) * IF(ISBLANK(INDIRECT("H73")), NA(), INDIRECT("H73")), "-") -> 0
B74: =IF(ISBLANK(INDIRECT("E74")), IF(NOT(AND(ISBLANK(INDIRECT("$H74")))), "Error: Please provide a value in the '#' column", "-"), IFERROR("Error: Missing value for '" & INDIRECT(ADDRESS(5, (8 + IF(ISBLANK(H74), 1, NA()) - 1))) & "' in cell " & ADDRESS(ROW(), (8 + IF(ISBLANK(H74), 1, NA()) - 1), 4), "Success: All values provided")) -> 0 | C74: N/A | D74: N/A | F74: =IF(E74 ="", "", VLOOKUP(E74, 'Primary Responses'!$E$7:G$10, 2, FALSE)) -> 0 | G74: =IF(E74 ="", "", VLOOKUP(E74, 'Primary Responses'!$E$7:G$10, 3, FALSE)) -> 0 | I74: =IFERROR(IF(ISBLANK(INDIRECT("G74")), NA(), INDIRECT("G74")) * IF(ISBLANK(INDIRECT("H74")), NA(), INDIRECT("H74")), "-") -> 0
B75: =IF(ISBLANK(INDIRECT("E75")), IF(NOT(AND(ISBLANK(INDIRECT("$H75")))), "Error: Please provide a value in the '#' column", "-"), IFERROR("Error: Missing value for '" & INDIRECT(ADDRESS(5, (8 + IF(ISBLANK(H75), 1, NA()) - 1))) & "' in cell " & ADDRESS(ROW(), (8 + IF(ISBLANK(H75), 1, NA()) - 1), 4), "Success: All values provided")) -> 0 | C75: N/A | D75: N/A | F75: =IF(E75 ="", "", VLOOKUP(E75, 'Primary Responses'!$E$7:G$10, 2, FALSE)) -> 0 | G75: =IF(E75 ="", "", VLOOKUP(E75, 'Primary Responses'!$E$7:G$10, 3, FALSE)) -> 0 | I75: =IFERROR(IF(ISBLANK(INDIRECT("G75")), NA(), INDIRECT("G75")) * IF(ISBLANK(INDIRECT("H75")), NA(), INDIRECT("H75")), "-") -> 0
B76: =IF(ISBLANK(INDIRECT("E76")), IF(NOT(AND(ISBLANK(INDIRECT("$H76")))), "Error: Please provide a value in the '#' column", "-"), IFERROR("Error: Missing value for '" & INDIRECT(ADDRESS(5, (8 + IF(ISBLANK(H76), 1, NA()) - 1))) & "' in cell " & ADDRESS(ROW(), (8 + IF(ISBLANK(H76), 1, NA()) - 1), 4), "Success: All values provided")) -> 0 | C76: N/A | D76: N/A | F76: =IF(E76 ="", "", VLOOKUP(E76, 'Primary Responses'!$E$7:G$10, 2, FALSE)) -> 0 | G76: =IF(E76 ="", "", VLOOKUP(E76, 'Primary Responses'!$E$7:G$10, 3, FALSE)) -> 0 | I76: =IFERROR(IF(ISBLANK(INDIRECT("G76")), NA(), INDIRECT("G76")) * IF(ISBLANK(INDIRECT("H76")), NA(), INDIRECT("H76")), "-") -> 0
B77: =IF(ISBLANK(INDIRECT("E77")), IF(NOT(AND(ISBLANK(INDIRECT("$H77")))), "Error: Please provide a value in the '#' column", "-"), IFERROR("Error: Missing value for '" & INDIRECT(ADDRESS(5, (8 + IF(ISBLANK(H77), 1, NA()) - 1))) & "' in cell " & ADDRESS(ROW(), (8 + IF(ISBLANK(H77), 1, NA()) - 1), 4), "Success: All values provided")) -> 0 | C77: N/A | D77: N/A | F77: =IF(E77 ="", "", VLOOKUP(E77, 'Primary Responses'!$E$7:G$10, 2, FALSE)) -> 0 | G77: =IF(E77 ="", "", VLOOKUP(E77, 'Primary Responses'!$E$7:G$10, 3, FALSE)) -> 0 | I77: =IFERROR(IF(ISBLANK(INDIRECT("G77")), NA(), INDIRECT("G77")) * IF(ISBLANK(INDIRECT("H77")), NA(), INDIRECT("H77")), "-") -> 0
B78: =IF(ISBLANK(INDIRECT("E78")), IF(NOT(AND(ISBLANK(INDIRECT("$H78")))), "Error: Please provide a value in the '#' column", "-"), IFERROR("Error: Missing value for '" & INDIRECT(ADDRESS(5, (8 + IF(ISBLANK(H78), 1, NA()) - 1))) & "' in cell " & ADDRESS(ROW(), (8 + IF(ISBLANK(H78), 1, NA()) - 1), 4), "Success: All values provided")) -> 0 | C78: N/A | D78: N/A | F78: =IF(E78 ="", "", VLOOKUP(E78, 'Primary Responses'!$E$7:G$10, 2, FALSE)) -> 0 | G78: =IF(E78 ="", "", VLOOKUP(E78, 'Primary Responses'!$E$7:G$10, 3, FALSE)) -> 0 | I78: =IFERROR(IF(ISBLANK(INDIRECT("G78")), NA(), INDIRECT("G78")) * IF(ISBLANK(INDIRECT("H78")), NA(), INDIRECT("H78")), "-") -> 0
B79: =IF(ISBLANK(INDIRECT("E79")), IF(NOT(AND(ISBLANK(INDIRECT("$H79")))), "Error: Please provide a value in the '#' column", "-"), IFERROR("Error: Missing value for '" & INDIRECT(ADDRESS(5, (8 + IF(ISBLANK(H79), 1, NA()) - 1))) & "' in cell " & ADDRESS(ROW(), (8 + IF(ISBLANK(H79), 1, NA()) - 1), 4), "Success: All values provided")) -> 0 | C79: N/A | D79: N/A | F79: =IF(E79 ="", "", VLOOKUP(E79, 'Primary Responses'!$E$7:G$10, 2, FALSE)) -> 0 | G79: =IF(E79 ="", "", VLOOKUP(E79, 'Primary Responses'!$E$7:G$10, 3, FALSE)) -> 0 | I79: =IFERROR(IF(ISBLANK(INDIRECT("G79")), NA(), INDIRECT("G79")) * IF(ISBLANK(INDIRECT("H79")), NA(), INDIRECT("H79")), "-") -> 0
B80: =IF(ISBLANK(INDIRECT("E80")), IF(NOT(AND(ISBLANK(INDIRECT("$H80")))), "Error: Please provide a value in the '#' column", "-"), IFERROR("Error: Missing value for '" & INDIRECT(ADDRESS(5, (8 + IF(ISBLANK(H80), 1, NA()) - 1))) & "' in cell " & ADDRESS(ROW(), (8 + IF(ISBLANK(H80), 1, NA()) - 1), 4), "Success: All values provided")) -> 0 | C80: N/A | D80: N/A | F80: =IF(E80 ="", "", VLOOKUP(E80, 'Primary Responses'!$E$7:G$10, 2, FALSE)) -> 0 | G80: =IF(E80 ="", "", VLOOKUP(E80, 'Primary Responses'!$E$7:G$10, 3, FALSE)) -> 0 | I80: =IFERROR(IF(ISBLANK(INDIRECT("G80")), NA(), INDIRECT("G80")) * IF(ISBLANK(INDIRECT("H80")), NA(), INDIRECT("H80")), "-") -> 0
B81: =IF(ISBLANK(INDIRECT("E81")), IF(NOT(AND(ISBLANK(INDIRECT("$H81")))), "Error: Please provide a value in the '#' column", "-"), IFERROR("Error: Missing value for '" & INDIRECT(ADDRESS(5, (8 + IF(ISBLANK(H81), 1, NA()) - 1))) & "' in cell " & ADDRESS(ROW(), (8 + IF(ISBLANK(H81), 1, NA()) - 1), 4), "Success: All values provided")) -> 0 | C81: N/A | D81: N/A | F81: =IF(E81 ="", "", VLOOKUP(E81, 'Primary Responses'!$E$7:G$10, 2, FALSE)) -> 0 | G81: =IF(E81 ="", "", VLOOKUP(E81, 'Primary Responses'!$E$7:G$10, 3, FALSE)) -> 0 | I81: =IFERROR(IF(ISBLANK(INDIRECT("G81")), NA(), INDIRECT("G81")) * IF(ISBLANK(INDIRECT("H81")), NA(), INDIRECT("H81")), "-") -> 0
B82: =IF(ISBLANK(INDIRECT("E82")), IF(NOT(AND(ISBLANK(INDIRECT("$H82")))), "Error: Please provide a value in the '#' column", "-"), IFERROR("Error: Missing value for '" & INDIRECT(ADDRESS(5, (8 + IF(ISBLANK(H82), 1, NA()) - 1))) & "' in cell " & ADDRESS(ROW(), (8 + IF(ISBLANK(H82), 1, NA()) - 1), 4), "Success: All values provided")) -> 0 | C82: N/A | D82: N/A | F82: =IF(E82 ="", "", VLOOKUP(E82, 'Primary Responses'!$E$7:G$10, 2, FALSE)) -> 0 | G82: =IF(E82 ="", "", VLOOKUP(E82, 'Primary Responses'!$E$7:G$10, 3, FALSE)) -> 0 | I82: =IFERROR(IF(ISBLANK(INDIRECT("G82")), NA(), INDIRECT("G82")) * IF(ISBLANK(INDIRECT("H82")), NA(), INDIRECT("H82")), "-") -> 0
B83: =IF(ISBLANK(INDIRECT("E83")), IF(NOT(AND(ISBLANK(INDIRECT("$H83")))), "Error: Please provide a value in the '#' column", "-"), IFERROR("Error: Missing value for '" & INDIRECT(ADDRESS(5, (8 + IF(ISBLANK(H83), 1, NA()) - 1))) & "' in cell " & ADDRESS(ROW(), (8 + IF(ISBLANK(H83), 1, NA()) - 1), 4), "Success: All values provided")) -> 0 | C83: N/A | D83: N/A | F83: =IF(E83 ="", "", VLOOKUP(E83, 'Primary Responses'!$E$7:G$10, 2, FALSE)) -> 0 | G83: =IF(E83 ="", "", VLOOKUP(E83, 'Primary Responses'!$E$7:G$10, 3, FALSE)) -> 0 | I83: =IFERROR(IF(ISBLANK(INDIRECT("G83")), NA(), INDIRECT("G83")) * IF(ISBLANK(INDIRECT("H83")), NA(), INDIRECT("H83")), "-") -> 0
B84: =IF(ISBLANK(INDIRECT("E84")), IF(NOT(AND(ISBLANK(INDIRECT("$H84")))), "Error: Please provide a value in the '#' column", "-"), IFERROR("Error: Missing value for '" & INDIRECT(ADDRESS(5, (8 + IF(ISBLANK(H84), 1, NA()) - 1))) & "' in cell " & ADDRESS(ROW(), (8 + IF(ISBLANK(H84), 1, NA()) - 1), 4), "Success: All values provided")) -> 0 | C84: N/A | D84: N/A | F84: =IF(E84 ="", "", VLOOKUP(E84, 'Primary Responses'!$E$7:G$10, 2, FALSE)) -> 0 | G84: =IF(E84 ="", "", VLOOKUP(E84, 'Primary Responses'!$E$7:G$10, 3, FALSE)) -> 0 | I84: =IFERROR(IF(ISBLANK(INDIRECT("G84")), NA(), INDIRECT("G84")) * IF(ISBLANK(INDIRECT("H84")), NA(), INDIRECT("H84")), "-") -> 0
B85: =IF(ISBLANK(INDIRECT("E85")), IF(NOT(AND(ISBLANK(INDIRECT("$H85")))), "Error: Please provide a value in the '#' column", "-"), IFERROR("Error: Missing value for '" & INDIRECT(ADDRESS(5, (8 + IF(ISBLANK(H85), 1, NA()) - 1))) & "' in cell " & ADDRESS(ROW(), (8 + IF(ISBLANK(H85), 1, NA()) - 1), 4), "Success: All values provided")) -> 0 | C85: N/A | D85: N/A | F85: =IF(E85 ="", "", VLOOKUP(E85, 'Primary Responses'!$E$7:G$10, 2, FALSE)) -> 0 | G85: =IF(E85 ="", "", VLOOKUP(E85, 'Primary Responses'!$E$7:G$10, 3, FALSE)) -> 0 | I85: =IFERROR(IF(ISBLANK(INDIRECT("G85")), NA(), INDIRECT("G85")) * IF(ISBLANK(INDIRECT("H85")), NA(), INDIRECT("H85")), "-") -> 0
B86: =IF(ISBLANK(INDIRECT("E86")), IF(NOT(AND(ISBLANK(INDIRECT("$H86")))), "Error: Please provide a value in the '#' column", "-"), IFERROR("Error: Missing value for '" & INDIRECT(ADDRESS(5, (8 + IF(ISBLANK(H86), 1, NA()) - 1))) & "' in cell " & ADDRESS(ROW(), (8 + IF(ISBLANK(H86), 1, NA()) - 1), 4), "Success: All values provided")) -> 0 | C86: N/A | D86: N/A | F86: =IF(E86 ="", "", VLOOKUP(E86, 'Primary Responses'!$E$7:G$10, 2, FALSE)) -> 0 | G86: =IF(E86 ="", "", VLOOKUP(E86, 'Primary Responses'!$E$7:G$10, 3, FALSE)) -> 0 | I86: =IFERROR(IF(ISBLANK(INDIRECT("G86")), NA(), INDIRECT("G86")) * IF(ISBLANK(INDIRECT("H86")), NA(), INDIRECT("H86")), "-") -> 0
B87: =IF(ISBLANK(INDIRECT("E87")), IF(NOT(AND(ISBLANK(INDIRECT("$H87")))), "Error: Please provide a value in the '#' column", "-"), IFERROR("Error: Missing value for '" & INDIRECT(ADDRESS(5, (8 + IF(ISBLANK(H87), 1, NA()) - 1))) & "' in cell " & ADDRESS(ROW(), (8 + IF(ISBLANK(H87), 1, NA()) - 1), 4), "Success: All values provided")) -> 0 | C87: N/A | D87: N/A | F87: =IF(E87 ="", "", VLOOKUP(E87, 'Primary Responses'!$E$7:G$10, 2, FALSE)) -> 0 | G87: =IF(E87 ="", "", VLOOKUP(E87, 'Primary Responses'!$E$7:G$10, 3, FALSE)) -> 0 | I87: =IFERROR(IF(ISBLANK(INDIRECT("G87")), NA(), INDIRECT("G87")) * IF(ISBLANK(INDIRECT("H87")), NA(), INDIRECT("H87")), "-") -> 0
B88: =IF(ISBLANK(INDIRECT("E88")), IF(NOT(AND(ISBLANK(INDIRECT("$H88")))), "Error: Please provide a value in the '#' column", "-"), IFERROR("Error: Missing value for '" & INDIRECT(ADDRESS(5, (8 + IF(ISBLANK(H88), 1, NA()) - 1))) & "' in cell " & ADDRESS(ROW(), (8 + IF(ISBLANK(H88), 1, NA()) - 1), 4), "Success: All values provided")) -> 0 | C88: N/A | D88: N/A | F88: =IF(E88 ="", "", VLOOKUP(E88, 'Primary Responses'!$E$7:G$10, 2, FALSE)) -> 0 | G88: =IF(E88 ="", "", VLOOKUP(E88, 'Primary Responses'!$E$7:G$10, 3, FALSE)) -> 0 | I88: =IFERROR(IF(ISBLANK(INDIRECT("G88")), NA(), INDIRECT("G88")) * IF(ISBLANK(INDIRECT("H88")), NA(), INDIRECT("H88")), "-") -> 0
B89: =IF(ISBLANK(INDIRECT("E89")), IF(NOT(AND(ISBLANK(INDIRECT("$H89")))), "Error: Please provide a value in the '#' column", "-"), IFERROR("Error: Missing value for '" & INDIRECT(ADDRESS(5, (8 + IF(ISBLANK(H89), 1, NA()) - 1))) & "' in cell " & ADDRESS(ROW(), (8 + IF(ISBLANK(H89), 1, NA()) - 1), 4), "Success: All values provided")) -> 0 | C89: N/A | D89: N/A | F89: =IF(E89 ="", "", VLOOKUP(E89, 'Primary Responses'!$E$7:G$10, 2, FALSE)) -> 0 | G89: =IF(E89 ="", "", VLOOKUP(E89, 'Primary Responses'!$E$7:G$10, 3, FALSE)) -> 0 | I89: =IFERROR(IF(ISBLANK(INDIRECT("G89")), NA(), INDIRECT("G89")) * IF(ISBLANK(INDIRECT("H89")), NA(), INDIRECT("H89")), "-") -> 0
B90: =IF(ISBLANK(INDIRECT("E90")), IF(NOT(AND(ISBLANK(INDIRECT("$H90")))), "Error: Please provide a value in the '#' column", "-"), IFERROR("Error: Missing value for '" & INDIRECT(ADDRESS(5, (8 + IF(ISBLANK(H90), 1, NA()) - 1))) & "' in cell " & ADDRESS(ROW(), (8 + IF(ISBLANK(H90), 1, NA()) - 1), 4), "Success: All values provided")) -> 0 | C90: N/A | D90: N/A | F90: =IF(E90 ="", "", VLOOKUP(E90, 'Primary Responses'!$E$7:G$10, 2, FALSE)) -> 0 | G90: =IF(E90 ="", "", VLOOKUP(E90, 'Primary Responses'!$E$7:G$10, 3, FALSE)) -> 0 | I90: =IFERROR(IF(ISBLANK(INDIRECT("G90")), NA(), INDIRECT("G90")) * IF(ISBLANK(INDIRECT("H90")), NA(), INDIRECT("H90")), "-") -> 0
B91: =IF(ISBLANK(INDIRECT("E91")), IF(NOT(AND(ISBLANK(INDIRECT("$H91")))), "Error: Please provide a value in the '#' column", "-"), IFERROR("Error: Missing value for '" & INDIRECT(ADDRESS(5, (8 + IF(ISBLANK(H91), 1, NA()) - 1))) & "' in cell " & ADDRESS(ROW(), (8 + IF(ISBLANK(H91), 1, NA()) - 1), 4), "Success: All values provided")) -> 0 | C91: N/A | D91: N/A | F91: =IF(E91 ="", "", VLOOKUP(E91, 'Primary Responses'!$E$7:G$10, 2, FALSE)) -> 0 | G91: =IF(E91 ="", "", VLOOKUP(E91, 'Primary Responses'!$E$7:G$10, 3, FALSE)) -> 0 | I91: =IFERROR(IF(ISBLANK(INDIRECT("G91")), NA(), INDIRECT("G91")) * IF(ISBLANK(INDIRECT("H91")), NA(), INDIRECT("H91")), "-") -> 0
B92: =IF(ISBLANK(INDIRECT("E92")), IF(NOT(AND(ISBLANK(INDIRECT("$H92")))), "Error: Please provide a value in the '#' column", "-"), IFERROR("Error: Missing value for '" & INDIRECT(ADDRESS(5, (8 + IF(ISBLANK(H92), 1, NA()) - 1))) & "' in cell " & ADDRESS(ROW(), (8 + IF(ISBLANK(H92), 1, NA()) - 1), 4), "Success: All values provided")) -> 0 | C92: N/A | D92: N/A | F92: =IF(E92 ="", "", VLOOKUP(E92, 'Primary Responses'!$E$7:G$10, 2, FALSE)) -> 0 | G92: =IF(E92 ="", "", VLOOKUP(E92, 'Primary Responses'!$E$7:G$10, 3, FALSE)) -> 0 | I92: =IFERROR(IF(ISBLANK(INDIRECT("G92")), NA(), INDIRECT("G92")) * IF(ISBLANK(INDIRECT("H92")), NA(), INDIRECT("H92")), "-") -> 0
B93: =IF(ISBLANK(INDIRECT("E93")), IF(NOT(AND(ISBLANK(INDIRECT("$H93")))), "Error: Please provide a value in the '#' column", "-"), IFERROR("Error: Missing value for '" & INDIRECT(ADDRESS(5, (8 + IF(ISBLANK(H93), 1, NA()) - 1))) & "' in cell " & ADDRESS(ROW(), (8 + IF(ISBLANK(H93), 1, NA()) - 1), 4), "Success: All values provided")) -> 0 | C93: N/A | D93: N/A | F93: =IF(E93 ="", "", VLOOKUP(E93, 'Primary Responses'!$E$7:G$10, 2, FALSE)) -> 0 | G93: =IF(E93 ="", "", VLOOKUP(E93, 'Primary Responses'!$E$7:G$10, 3, FALSE)) -> 0 | I93: =IFERROR(IF(ISBLANK(INDIRECT("G93")), NA(), INDIRECT("G93")) * IF(ISBLANK(INDIRECT("H93")), NA(), INDIRECT("H93")), "-") -> 0
B94: =IF(ISBLANK(INDIRECT("E94")), IF(NOT(AND(ISBLANK(INDIRECT("$H94")))), "Error: Please provide a value in the '#' column", "-"), IFERROR("Error: Missing value for '" & INDIRECT(ADDRESS(5, (8 + IF(ISBLANK(H94), 1, NA()) - 1))) & "' in cell " & ADDRESS(ROW(), (8 + IF(ISBLANK(H94), 1, NA()) - 1), 4), "Success: All values provided")) -> 0 | C94: N/A | D94: N/A | F94: =IF(E94 ="", "", VLOOKUP(E94, 'Primary Responses'!$E$7:G$10, 2, FALSE)) -> 0 | G94: =IF(E94 ="", "", VLOOKUP(E94, 'Primary Responses'!$E$7:G$10, 3, FALSE)) -> 0 | I94: =IFERROR(IF(ISBLANK(INDIRECT("G94")), NA(), INDIRECT("G94")) * IF(ISBLANK(INDIRECT("H94")), NA(), INDIRECT("H94")), "-") -> 0
B95: =IF(ISBLANK(INDIRECT("E95")), IF(NOT(AND(ISBLANK(INDIRECT("$H95")))), "Error: Please provide a value in the '#' column", "-"), IFERROR("Error: Missing value for '" & INDIRECT(ADDRESS(5, (8 + IF(ISBLANK(H95), 1, NA()) - 1))) & "' in cell " & ADDRESS(ROW(), (8 + IF(ISBLANK(H95), 1, NA()) - 1), 4), "Success: All values provided")) -> 0 | C95: N/A | D95: N/A | F95: =IF(E95 ="", "", VLOOKUP(E95, 'Primary Responses'!$E$7:G$10, 2, FALSE)) -> 0 | G95: =IF(E95 ="", "", VLOOKUP(E95, 'Primary Responses'!$E$7:G$10, 3, FALSE)) -> 0 | I95: =IFERROR(IF(ISBLANK(INDIRECT("G95")), NA(), INDIRECT("G95")) * IF(ISBLANK(INDIRECT("H95")), NA(), INDIRECT("H95")), "-") -> 0
B96: =IF(ISBLANK(INDIRECT("E96")), IF(NOT(AND(ISBLANK(INDIRECT("$H96")))), "Error: Please provide a value in the '#' column", "-"), IFERROR("Error: Missing value for '" & INDIRECT(ADDRESS(5, (8 + IF(ISBLANK(H96), 1, NA()) - 1))) & "' in cell " & ADDRESS(ROW(), (8 + IF(ISBLANK(H96), 1, NA()) - 1), 4), "Success: All values provided")) -> 0 | C96: N/A | D96: N/A | F96: =IF(E96 ="", "", VLOOKUP(E96, 'Primary Responses'!$E$7:G$10, 2, FALSE)) -> 0 | G96: =IF(E96 ="", "", VLOOKUP(E96, 'Primary Responses'!$E$7:G$10, 3, FALSE)) -> 0 | I96: =IFERROR(IF(ISBLANK(INDIRECT("G96")), NA(), INDIRECT("G96")) * IF(ISBLANK(INDIRECT("H96")), NA(), INDIRECT("H96")), "-") -> 0
B97: =IF(ISBLANK(INDIRECT("E97")), IF(NOT(AND(ISBLANK(INDIRECT("$H97")))), "Error: Please provide a value in the '#' column", "-"), IFERROR("Error: Missing value for '" & INDIRECT(ADDRESS(5, (8 + IF(ISBLANK(H97), 1, NA()) - 1))) & "' in cell " & ADDRESS(ROW(), (8 + IF(ISBLANK(H97), 1, NA()) - 1), 4), "Success: All values provided")) -> 0 | C97: N/A | D97: N/A | F97: =IF(E97 ="", "", VLOOKUP(E97, 'Primary Responses'!$E$7:G$10, 2, FALSE)) -> 0 | G97: =IF(E97 ="", "", VLOOKUP(E97, 'Primary Responses'!$E$7:G$10, 3, FALSE)) -> 0 | I97: =IFERROR(IF(ISBLANK(INDIRECT("G97")), NA(), INDIRECT("G97")) * IF(ISBLANK(INDIRECT("H97")), NA(), INDIRECT("H97")), "-") -> 0
B98: =IF(ISBLANK(INDIRECT("E98")), IF(NOT(AND(ISBLANK(INDIRECT("$H98")))), "Error: Please provide a value in the '#' column", "-"), IFERROR("Error: Missing value for '" & INDIRECT(ADDRESS(5, (8 + IF(ISBLANK(H98), 1, NA()) - 1))) & "' in cell " & ADDRESS(ROW(), (8 + IF(ISBLANK(H98), 1, NA()) - 1), 4), "Success: All values provided")) -> 0 | C98: N/A | D98: N/A | F98: =IF(E98 ="", "", VLOOKUP(E98, 'Primary Responses'!$E$7:G$10, 2, FALSE)) -> 0 | G98: =IF(E98 ="", "", VLOOKUP(E98, 'Primary Responses'!$E$7:G$10, 3, FALSE)) -> 0 | I98: =IFERROR(IF(ISBLANK(INDIRECT("G98")), NA(), INDIRECT("G98")) * IF(ISBLANK(INDIRECT("H98")), NA(), INDIRECT("H98")), "-") -> 0
B99: =IF(ISBLANK(INDIRECT("E99")), IF(NOT(AND(ISBLANK(INDIRECT("$H99")))), "Error: Please provide a value in the '#' column", "-"), IFERROR("Error: Missing value for '" & INDIRECT(ADDRESS(5, (8 + IF(ISBLANK(H99), 1, NA()) - 1))) & "' in cell " & ADDRESS(ROW(), (8 + IF(ISBLANK(H99), 1, NA()) - 1), 4), "Success: All values provided")) -> 0 | C99: N/A | D99: N/A | F99: =IF(E99 ="", "", VLOOKUP(E99, 'Primary Responses'!$E$7:G$10, 2, FALSE)) -> 0 | G99: =IF(E99 ="", "", VLOOKUP(E99, 'Primary Responses'!$E$7:G$10, 3, FALSE)) -> 0 | I99: =IFERROR(IF(ISBLANK(INDIRECT("G99")), NA(), INDIRECT("G99")) * IF(ISBLANK(INDIRECT("H99")), NA(), INDIRECT("H99")), "-") -> 0
B100: =IF(ISBLANK(INDIRECT("E100")), IF(NOT(AND(ISBLANK(INDIRECT("$H100")))), "Error: Please provide a value in the '#' column", "-"), IFERROR("Error: Missing value for '" & INDIRECT(ADDRESS(5, (8 + IF(ISBLANK(H100), 1, NA()) - 1))) & "' in cell " & ADDRESS(ROW(), (8 + IF(ISBLANK(H100), 1, NA()) - 1), 4), "Success: All values provided")) -> 0 | C100: N/A | D100: N/A | F100: =IF(E100 ="", "", VLOOKUP(E100, 'Primary Responses'!$E$7:G$10, 2, FALSE)) -> 0 | G100: =IF(E100 ="", "", VLOOKUP(E100, 'Primary Responses'!$E$7:G$10, 3, FALSE)) -> 0 | I100: =IFERROR(IF(ISBLANK(INDIRECT("G100")), NA(), INDIRECT("G100")) * IF(ISBLANK(INDIRECT("H100")), NA(), INDIRECT("H100")), "-") -> 0
B101: =IF(ISBLANK(INDIRECT("E101")), IF(NOT(AND(ISBLANK(INDIRECT("$H101")))), "Error: Please provide a value in the '#' column", "-"), IFERROR("Error: Missing value for '" & INDIRECT(ADDRESS(5, (8 + IF(ISBLANK(H101), 1, NA()) - 1))) & "' in cell " & ADDRESS(ROW(), (8 + IF(ISBLANK(H101), 1, NA()) - 1), 4), "Success: All values provided")) -> 0 | C101: N/A | D101: N/A | F101: =IF(E101 ="", "", VLOOKUP(E101, 'Primary Responses'!$E$7:G$10, 2, FALSE)) -> 0 | G101: =IF(E101 ="", "", VLOOKUP(E101, 'Primary Responses'!$E$7:G$10, 3, FALSE)) -> 0 | I101: =IFERROR(IF(ISBLANK(INDIRECT("G101")), NA(), INDIRECT("G101")) * IF(ISBLANK(INDIRECT("H101")), NA(), INDIRECT("H101")), "-") -> 0
...
